BEGIN:VCALENDAR
VERSION:2.0
PRODID:-//Heritage Christian Careers - ECPv6.15.20//NONSGML v1.0//EN
CALSCALE:GREGORIAN
METHOD:PUBLISH
X-WR-CALNAME:Heritage Christian Careers
X-ORIGINAL-URL:https://jobs.heritagechristianservices.org
X-WR-CALDESC:Events for Heritage Christian Careers
REFRESH-INTERVAL;VALUE=DURATION:PT1H
X-Robots-Tag:noindex
X-PUBLISHED-TTL:PT1H
BEGIN:VTIMEZONE
TZID:America/New_York
BEGIN:DAYLIGHT
TZOFFSETFROM:-0500
TZOFFSETTO:-0400
TZNAME:EDT
DTSTART:20250309T070000
END:DAYLIGHT
BEGIN:STANDARD
TZOFFSETFROM:-0400
TZOFFSETTO:-0500
TZNAME:EST
DTSTART:20251102T060000
END:STANDARD
BEGIN:DAYLIGHT
TZOFFSETFROM:-0500
TZOFFSETTO:-0400
TZNAME:EDT
DTSTART:20260308T070000
END:DAYLIGHT
BEGIN:STANDARD
TZOFFSETFROM:-0400
TZOFFSETTO:-0500
TZNAME:EST
DTSTART:20261101T060000
END:STANDARD
BEGIN:DAYLIGHT
TZOFFSETFROM:-0500
TZOFFSETTO:-0400
TZNAME:EDT
DTSTART:20270314T070000
END:DAYLIGHT
BEGIN:STANDARD
TZOFFSETFROM:-0400
TZOFFSETTO:-0500
TZNAME:EST
DTSTART:20271107T060000
END:STANDARD
END:VTIMEZONE
BEGIN:VEVENT
DTSTART;TZID=America/New_York:20260303T110000
DTEND;TZID=America/New_York:20260303T150000
DTSTAMP:20260421T131250
CREATED:20251203T161256Z
LAST-MODIFIED:20251203T161256Z
UID:8505-1772535600-1772550000@jobs.heritagechristianservices.org
SUMMARY:Buffalo Walk-in Tuesdays
DESCRIPTION:Apply for a job at Heritage Christian Services Walk-in Tuesdays!
URL:https://jobs.heritagechristianservices.org/event/buffalo-walk-in-tuesdays-22/
LOCATION:Heritage Christian Services Regional Office\, 130 John Muir Dr.\, Suite 106\, Amherst\, NY\, 14228\, United States
ATTACH;FMTTYPE=image/png:https://jobs.heritagechristianservices.org/wp-content/uploads/2024/05/2.png
END:VEVENT
BEGIN:VEVENT
DTSTART;TZID=America/New_York:20260303T110000
DTEND;TZID=America/New_York:20260303T150000
DTSTAMP:20260421T131250
CREATED:20251203T162347Z
LAST-MODIFIED:20251203T162347Z
UID:8529-1772535600-1772550000@jobs.heritagechristianservices.org
SUMMARY:Rochester Walk-in Tuesdays
DESCRIPTION:Apply for a job at Heritage Christian Services Walk-in Tuesdays!
URL:https://jobs.heritagechristianservices.org/event/rochester-walk-in-tuesdays-76/
LOCATION:Heritage Christian Services Corporate Office\, 275 Kenneth Drive\, Suite 100\, Rochester\, NY\, 14623\, United States
ATTACH;FMTTYPE=image/jpeg:https://jobs.heritagechristianservices.org/wp-content/uploads/2023/11/6568d253ca2ea.jpg
END:VEVENT
BEGIN:VEVENT
DTSTART;TZID=America/New_York:20260304T120000
DTEND;TZID=America/New_York:20260304T160000
DTSTAMP:20260421T131250
CREATED:20260220T134602Z
LAST-MODIFIED:20260220T134602Z
UID:8578-1772625600-1772640000@jobs.heritagechristianservices.org
SUMMARY:Walk-in Clinical Hiring Event
DESCRIPTION:Apply for a clinical position at this special walk-in hiring event!
URL:https://jobs.heritagechristianservices.org/event/walk-in-clinical-hiring-event/
LOCATION:Heritage Christian Services Corporate Office\, 275 Kenneth Drive\, Suite 100\, Rochester\, NY\, 14623\, United States
ATTACH;FMTTYPE=image/png:https://jobs.heritagechristianservices.org/wp-content/uploads/2026/02/Clinical-Hiring-Event-Thumbnail-Mar-4-26-1.png
END:VEVENT
BEGIN:VEVENT
DTSTART;TZID=America/New_York:20260310T110000
DTEND;TZID=America/New_York:20260310T150000
DTSTAMP:20260421T131250
CREATED:20251203T162425Z
LAST-MODIFIED:20251203T162425Z
UID:8531-1773140400-1773154800@jobs.heritagechristianservices.org
SUMMARY:Rochester Walk-in Tuesdays
DESCRIPTION:Apply for a job at Heritage Christian Services Walk-in Tuesdays!
URL:https://jobs.heritagechristianservices.org/event/rochester-walk-in-tuesdays-77/
LOCATION:Heritage Christian Services Corporate Office\, 275 Kenneth Drive\, Suite 100\, Rochester\, NY\, 14623\, United States
ATTACH;FMTTYPE=image/jpeg:https://jobs.heritagechristianservices.org/wp-content/uploads/2023/11/6568d253ca2ea.jpg
END:VEVENT
BEGIN:VEVENT
DTSTART;TZID=America/New_York:20260317T110000
DTEND;TZID=America/New_York:20260317T150000
DTSTAMP:20260421T131250
CREATED:20251203T162502Z
LAST-MODIFIED:20251203T162502Z
UID:8533-1773745200-1773759600@jobs.heritagechristianservices.org
SUMMARY:Rochester Walk-in Tuesdays
DESCRIPTION:Apply for a job at Heritage Christian Services Walk-in Tuesdays!
URL:https://jobs.heritagechristianservices.org/event/rochester-walk-in-tuesdays-78/
LOCATION:Heritage Christian Services Corporate Office\, 275 Kenneth Drive\, Suite 100\, Rochester\, NY\, 14623\, United States
ATTACH;FMTTYPE=image/jpeg:https://jobs.heritagechristianservices.org/wp-content/uploads/2023/11/6568d253ca2ea.jpg
END:VEVENT
BEGIN:VEVENT
DTSTART;TZID=America/New_York:20260321T090000
DTEND;TZID=America/New_York:20260321T130000
DTSTAMP:20260421T131250
CREATED:20251203T155704Z
LAST-MODIFIED:20251203T155704Z
UID:8481-1774083600-1774098000@jobs.heritagechristianservices.org
SUMMARY:Saturday Hiring Event
DESCRIPTION:
URL:https://jobs.heritagechristianservices.org/event/saturday-hiring-event-11/
LOCATION:Heritage Christian Services Corporate Office\, 275 Kenneth Drive\, Suite 100\, Rochester\, NY\, 14623\, United States
ATTACH;FMTTYPE=image/jpeg:https://jobs.heritagechristianservices.org/wp-content/uploads/2023/11/6568d261dec2f.jpg
END:VEVENT
BEGIN:VEVENT
DTSTART;TZID=America/New_York:20260324T110000
DTEND;TZID=America/New_York:20260324T150000
DTSTAMP:20260421T131250
CREATED:20251203T162543Z
LAST-MODIFIED:20251203T162543Z
UID:8535-1774350000-1774364400@jobs.heritagechristianservices.org
SUMMARY:Rochester Walk-in Tuesdays
DESCRIPTION:Apply for a job at Heritage Christian Services Walk-in Tuesdays!
URL:https://jobs.heritagechristianservices.org/event/rochester-walk-in-tuesdays-79/
LOCATION:Heritage Christian Services Corporate Office\, 275 Kenneth Drive\, Suite 100\, Rochester\, NY\, 14623\, United States
ATTACH;FMTTYPE=image/jpeg:https://jobs.heritagechristianservices.org/wp-content/uploads/2023/11/6568d253ca2ea.jpg
END:VEVENT
BEGIN:VEVENT
DTSTART;TZID=America/New_York:20260326T100000
DTEND;TZID=America/New_York:20260326T133000
DTSTAMP:20260421T131250
CREATED:20260311T183214Z
LAST-MODIFIED:20260311T183646Z
UID:8588-1774519200-1774531800@jobs.heritagechristianservices.org
SUMMARY:Hiring Event – Irondequoit Public Library
DESCRIPTION:
URL:https://jobs.heritagechristianservices.org/event/hiring-event-irondequoit-public-library-9/
LOCATION:Irondequoit Public Library\, 1290 Titus Ave\, Rochester\, NY\, 14617\, United States
ATTACH;FMTTYPE=image/jpeg:https://jobs.heritagechristianservices.org/wp-content/uploads/2022/04/Irondequoit.jpg
END:VEVENT
BEGIN:VEVENT
DTSTART;TZID=America/New_York:20260331T110000
DTEND;TZID=America/New_York:20260331T150000
DTSTAMP:20260421T131250
CREATED:20251203T162635Z
LAST-MODIFIED:20251203T162635Z
UID:8537-1774954800-1774969200@jobs.heritagechristianservices.org
SUMMARY:Rochester Walk-in Tuesdays
DESCRIPTION:Apply for a job at Heritage Christian Services Walk-in Tuesdays!
URL:https://jobs.heritagechristianservices.org/event/rochester-walk-in-tuesdays-80/
LOCATION:Heritage Christian Services Corporate Office\, 275 Kenneth Drive\, Suite 100\, Rochester\, NY\, 14623\, United States
ATTACH;FMTTYPE=image/jpeg:https://jobs.heritagechristianservices.org/wp-content/uploads/2023/11/6568d253ca2ea.jpg
END:VEVENT
END:VCALENDAR