BEGIN:VCALENDAR
VERSION:2.0
PRODID:-//Heritage Christian Careers - ECPv6.15.20//NONSGML v1.0//EN
CALSCALE:GREGORIAN
METHOD:PUBLISH
X-WR-CALNAME:Heritage Christian Careers
X-ORIGINAL-URL:https://jobs.heritagechristianservices.org
X-WR-CALDESC:Events for Heritage Christian Careers
REFRESH-INTERVAL;VALUE=DURATION:PT1H
X-Robots-Tag:noindex
X-PUBLISHED-TTL:PT1H
BEGIN:VTIMEZONE
TZID:America/New_York
BEGIN:DAYLIGHT
TZOFFSETFROM:-0500
TZOFFSETTO:-0400
TZNAME:EDT
DTSTART:20230312T070000
END:DAYLIGHT
BEGIN:STANDARD
TZOFFSETFROM:-0400
TZOFFSETTO:-0500
TZNAME:EST
DTSTART:20231105T060000
END:STANDARD
BEGIN:DAYLIGHT
TZOFFSETFROM:-0500
TZOFFSETTO:-0400
TZNAME:EDT
DTSTART:20240310T070000
END:DAYLIGHT
BEGIN:STANDARD
TZOFFSETFROM:-0400
TZOFFSETTO:-0500
TZNAME:EST
DTSTART:20241103T060000
END:STANDARD
BEGIN:DAYLIGHT
TZOFFSETFROM:-0500
TZOFFSETTO:-0400
TZNAME:EDT
DTSTART:20250309T070000
END:DAYLIGHT
BEGIN:STANDARD
TZOFFSETFROM:-0400
TZOFFSETTO:-0500
TZNAME:EST
DTSTART:20251102T060000
END:STANDARD
END:VTIMEZONE
BEGIN:VEVENT
DTSTART;TZID=America/New_York:20240702T120000
DTEND;TZID=America/New_York:20240702T160000
DTSTAMP:20260423T045216
CREATED:20240520T143343Z
LAST-MODIFIED:20240911T195742Z
UID:7253-1719921600-1719936000@jobs.heritagechristianservices.org
SUMMARY:Rochester Walk-in Tuesdays
DESCRIPTION:Apply for a job at Heritage Christian Services Walk-in Tuesdays!
URL:https://jobs.heritagechristianservices.org/event/rochester-walk-in-tuesdays/
LOCATION:Heritage Christian Services Corporate Office\, 275 Kenneth Drive\, Suite 100\, Rochester\, NY\, 14623\, United States
ATTACH;FMTTYPE=image/png:https://jobs.heritagechristianservices.org/wp-content/uploads/2023/06/Walk-In-Tuesdays-for-events.png
END:VEVENT
BEGIN:VEVENT
DTSTART;TZID=America/New_York:20240702T120000
DTEND;TZID=America/New_York:20240702T160000
DTSTAMP:20260423T045216
CREATED:20240522T173412Z
LAST-MODIFIED:20240618T145954Z
UID:7264-1719921600-1719936000@jobs.heritagechristianservices.org
SUMMARY:Buffalo Walk-in Tuesdays
DESCRIPTION:Apply for a job at Heritage Christian Services Walk-in Tuesdays!
URL:https://jobs.heritagechristianservices.org/event/buffalo-walk-in-tuesdays/
LOCATION:Heritage Christian Services Regional Office\, 130 John Muir Dr.\, Suite 106\, Amherst\, NY\, 14228\, United States
ATTACH;FMTTYPE=image/png:https://jobs.heritagechristianservices.org/wp-content/uploads/2024/05/1.png
END:VEVENT
BEGIN:VEVENT
DTSTART;TZID=America/New_York:20240709T120000
DTEND;TZID=America/New_York:20240709T160000
DTSTAMP:20260423T045216
CREATED:20240520T171605Z
LAST-MODIFIED:20240911T202248Z
UID:7258-1720526400-1720540800@jobs.heritagechristianservices.org
SUMMARY:Rochester Walk-in Tuesdays
DESCRIPTION:Apply for a job at Heritage Christian Services Walk-in Tuesdays!
URL:https://jobs.heritagechristianservices.org/event/rochester-walk-in-tuesdays-2/
LOCATION:Heritage Christian Services Corporate Office\, 275 Kenneth Drive\, Suite 100\, Rochester\, NY\, 14623\, United States
ATTACH;FMTTYPE=image/png:https://jobs.heritagechristianservices.org/wp-content/uploads/2023/01/Walk-in-Tuesdays-2-2.png
END:VEVENT
BEGIN:VEVENT
DTSTART;TZID=America/New_York:20240716T120000
DTEND;TZID=America/New_York:20240716T160000
DTSTAMP:20260423T045216
CREATED:20240520T172225Z
LAST-MODIFIED:20240911T201035Z
UID:7260-1721131200-1721145600@jobs.heritagechristianservices.org
SUMMARY:Rochester Walk-in Tuesdays
DESCRIPTION:Apply for a job at Heritage Christian Services Walk-in Tuesdays!
URL:https://jobs.heritagechristianservices.org/event/rochester-walk-in-tuesdays-3/
LOCATION:Heritage Christian Services Corporate Office\, 275 Kenneth Drive\, Suite 100\, Rochester\, NY\, 14623\, United States
ATTACH;FMTTYPE=image/png:https://jobs.heritagechristianservices.org/wp-content/uploads/2023/01/Walk-in-Tuesdays-2-3.png
END:VEVENT
BEGIN:VEVENT
DTSTART;TZID=America/New_York:20240723T120000
DTEND;TZID=America/New_York:20240723T160000
DTSTAMP:20260423T045216
CREATED:20240520T172551Z
LAST-MODIFIED:20240912T125023Z
UID:7262-1721736000-1721750400@jobs.heritagechristianservices.org
SUMMARY:Rochester Walk-in Tuesdays
DESCRIPTION:Apply for a job at Heritage Christian Services Walk-in Tuesdays!
URL:https://jobs.heritagechristianservices.org/event/rochester-walk-in-tuesdays-4/
LOCATION:Heritage Christian Services Corporate Office\, 275 Kenneth Drive\, Suite 100\, Rochester\, NY\, 14623\, United States
ATTACH;FMTTYPE=image/png:https://jobs.heritagechristianservices.org/wp-content/uploads/2023/01/Walk-in-Tuesdays-2-1.png
END:VEVENT
BEGIN:VEVENT
DTSTART;TZID=America/New_York:20240726T130000
DTEND;TZID=America/New_York:20240726T160000
DTSTAMP:20260423T045216
CREATED:20240709T135750Z
LAST-MODIFIED:20240709T135750Z
UID:7304-1721998800-1722009600@jobs.heritagechristianservices.org
SUMMARY:Hiring Direct Support Staff for Community Habilitation – Webster Public Library
DESCRIPTION:
URL:https://jobs.heritagechristianservices.org/event/hiring-direct-support-staff-for-community-habilitation-webster-public-library/
LOCATION:Webster Public Library\, 980 Ridge Road\, Webster\, NY\, 14580\, United States
ATTACH;FMTTYPE=image/jpeg:https://jobs.heritagechristianservices.org/wp-content/uploads/2018/08/webster-public-library-e1553881996554.jpg
END:VEVENT
BEGIN:VEVENT
DTSTART;TZID=America/New_York:20240729T103000
DTEND;TZID=America/New_York:20240729T140000
DTSTAMP:20260423T045216
CREATED:20240709T181908Z
LAST-MODIFIED:20240709T181908Z
UID:7307-1722249000-1722261600@jobs.heritagechristianservices.org
SUMMARY:Hiring Event - Irondequoit Library
DESCRIPTION:
URL:https://jobs.heritagechristianservices.org/event/hiring-event-irondequoit-library-3/
LOCATION:Irondequoit Public Library\, 1290 Titus Ave\, Rochester\, NY\, 14617\, United States
ATTACH;FMTTYPE=image/jpeg:https://jobs.heritagechristianservices.org/wp-content/uploads/2022/04/Irondequoit.jpg
END:VEVENT
BEGIN:VEVENT
DTSTART;TZID=America/New_York:20240730T120000
DTEND;TZID=America/New_York:20240730T160000
DTSTAMP:20260423T045216
CREATED:20240522T173757Z
LAST-MODIFIED:20240523T141744Z
UID:7268-1722340800-1722355200@jobs.heritagechristianservices.org
SUMMARY:Rochester Walk-in Tuesdays
DESCRIPTION:Apply for a job at Heritage Christian Services Walk-in Tuesdays!
URL:https://jobs.heritagechristianservices.org/event/rochester-walk-in-tuesdays-5/
LOCATION:Heritage Christian Services Corporate Office\, 275 Kenneth Drive\, Suite 100\, Rochester\, NY\, 14623\, United States
ATTACH;FMTTYPE=image/png:https://jobs.heritagechristianservices.org/wp-content/uploads/2023/06/Walk-In-Tuesdays-for-events.png
END:VEVENT
END:VCALENDAR