BEGIN:VCALENDAR
VERSION:2.0
PRODID:-//Heritage Christian Careers - ECPv6.15.20//NONSGML v1.0//EN
CALSCALE:GREGORIAN
METHOD:PUBLISH
X-WR-CALNAME:Heritage Christian Careers
X-ORIGINAL-URL:https://jobs.heritagechristianservices.org
X-WR-CALDESC:Events for Heritage Christian Careers
REFRESH-INTERVAL;VALUE=DURATION:PT1H
X-Robots-Tag:noindex
X-PUBLISHED-TTL:PT1H
BEGIN:VTIMEZONE
TZID:America/New_York
BEGIN:DAYLIGHT
TZOFFSETFROM:-0500
TZOFFSETTO:-0400
TZNAME:EDT
DTSTART:20230312T070000
END:DAYLIGHT
BEGIN:STANDARD
TZOFFSETFROM:-0400
TZOFFSETTO:-0500
TZNAME:EST
DTSTART:20231105T060000
END:STANDARD
BEGIN:DAYLIGHT
TZOFFSETFROM:-0500
TZOFFSETTO:-0400
TZNAME:EDT
DTSTART:20240310T070000
END:DAYLIGHT
BEGIN:STANDARD
TZOFFSETFROM:-0400
TZOFFSETTO:-0500
TZNAME:EST
DTSTART:20241103T060000
END:STANDARD
BEGIN:DAYLIGHT
TZOFFSETFROM:-0500
TZOFFSETTO:-0400
TZNAME:EDT
DTSTART:20250309T070000
END:DAYLIGHT
BEGIN:STANDARD
TZOFFSETFROM:-0400
TZOFFSETTO:-0500
TZNAME:EST
DTSTART:20251102T060000
END:STANDARD
END:VTIMEZONE
BEGIN:VEVENT
DTSTART;TZID=America/New_York:20240305T120000
DTEND;TZID=America/New_York:20240305T160000
DTSTAMP:20260421T044729
CREATED:20231201T191103Z
LAST-MODIFIED:20240208T151820Z
UID:6893-1709640000-1709654400@jobs.heritagechristianservices.org
SUMMARY:Rochester Walk-in Tuesdays
DESCRIPTION:
URL:https://jobs.heritagechristianservices.org/event/walk-in-tuesdays-48/
LOCATION:Heritage Christian Services Corporate Office\, 275 Kenneth Drive\, Suite 100\, Rochester\, NY\, 14623\, United States
ATTACH;FMTTYPE=image/jpeg:https://jobs.heritagechristianservices.org/wp-content/uploads/2023/11/6568d25a19c78.jpg
END:VEVENT
BEGIN:VEVENT
DTSTART;TZID=America/New_York:20240305T120000
DTEND;TZID=America/New_York:20240305T160000
DTSTAMP:20260421T044729
CREATED:20231201T195217Z
LAST-MODIFIED:20240912T131523Z
UID:6935-1709640000-1709654400@jobs.heritagechristianservices.org
SUMMARY:Buffalo Walk-in Tuesdays
DESCRIPTION:
URL:https://jobs.heritagechristianservices.org/event/walk-in-tuesdays-69/
LOCATION:Heritage Christian Services Regional Office\, 130 John Muir Dr.\, Suite 106\, Amherst\, NY\, 14228\, United States
ATTACH;FMTTYPE=image/jpeg:https://jobs.heritagechristianservices.org/wp-content/uploads/2023/11/6568d25de04a2.jpg
END:VEVENT
BEGIN:VEVENT
DTSTART;TZID=America/New_York:20240306T130000
DTEND;TZID=America/New_York:20240306T150000
DTSTAMP:20260421T044729
CREATED:20211101T185527Z
LAST-MODIFIED:20240131T190826Z
UID:2499-1709730000-1709737200@jobs.heritagechristianservices.org
SUMMARY:SUNY Brockport Job and Internship Fair
DESCRIPTION:
URL:https://jobs.heritagechristianservices.org/event/suny-brockport-2022-jobs-and-internship-fair/
LOCATION:SUNY Brockport\, 350 New Campus Drive\, Brockport\, NY\, 14420\, United States
ATTACH;FMTTYPE=image/jpeg:https://jobs.heritagechristianservices.org/wp-content/uploads/2021/07/all_in_one_logo.jpg
END:VEVENT
BEGIN:VEVENT
DTSTART;TZID=America/New_York:20240312T120000
DTEND;TZID=America/New_York:20240312T160000
DTSTAMP:20260421T044729
CREATED:20231201T191232Z
LAST-MODIFIED:20240912T133114Z
UID:6895-1710244800-1710259200@jobs.heritagechristianservices.org
SUMMARY:Rochester Walk-in Tuesdays
DESCRIPTION:
URL:https://jobs.heritagechristianservices.org/event/walk-in-tuesdays-49/
LOCATION:Heritage Christian Services Corporate Office\, 275 Kenneth Drive\, Suite 100\, Rochester\, NY\, 14623\, United States
ATTACH;FMTTYPE=image/jpeg:https://jobs.heritagechristianservices.org/wp-content/uploads/2023/11/6568d2580e883.jpg
END:VEVENT
BEGIN:VEVENT
DTSTART;TZID=America/New_York:20240316T090000
DTEND;TZID=America/New_York:20240316T130000
DTSTAMP:20260421T044729
CREATED:20231201T205557Z
LAST-MODIFIED:20240912T132742Z
UID:6970-1710579600-1710594000@jobs.heritagechristianservices.org
SUMMARY:Rochester Saturday Hiring Event
DESCRIPTION:
URL:https://jobs.heritagechristianservices.org/event/saturday-hiring-event-2/
LOCATION:Heritage Christian Services Corporate Office\, 275 Kenneth Drive\, Suite 100\, Rochester\, NY\, 14623\, United States
ATTACH;FMTTYPE=image/jpeg:https://jobs.heritagechristianservices.org/wp-content/uploads/2023/11/6568d25fe8c00.jpg
END:VEVENT
BEGIN:VEVENT
DTSTART;TZID=America/New_York:20240319T110000
DTEND;TZID=America/New_York:20240319T130000
DTSTAMP:20260421T044729
CREATED:20240131T192003Z
LAST-MODIFIED:20240912T130650Z
UID:7041-1710846000-1710853200@jobs.heritagechristianservices.org
SUMMARY:University of Rochester School of Nursing Annual Career Fair
DESCRIPTION:
URL:https://jobs.heritagechristianservices.org/event/university-of-rochester-school-of-nursing-annual-career-fair/
LOCATION:University of Rochester\, 252 Elmwood Ave\, Rochester\, NY\, 14642\, United States
END:VEVENT
BEGIN:VEVENT
DTSTART;TZID=America/New_York:20240319T120000
DTEND;TZID=America/New_York:20240319T160000
DTSTAMP:20260421T044729
CREATED:20231201T191418Z
LAST-MODIFIED:20240912T134151Z
UID:6897-1710849600-1710864000@jobs.heritagechristianservices.org
SUMMARY:Rochester Walk-in Tuesdays
DESCRIPTION:
URL:https://jobs.heritagechristianservices.org/event/walk-in-tuesdays-50/
LOCATION:Heritage Christian Services Corporate Office\, 275 Kenneth Drive\, Suite 100\, Rochester\, NY\, 14623\, United States
ATTACH;FMTTYPE=image/jpeg:https://jobs.heritagechristianservices.org/wp-content/uploads/2023/11/6568d253ca2ea.jpg
END:VEVENT
BEGIN:VEVENT
DTSTART;TZID=America/New_York:20240320T123000
DTEND;TZID=America/New_York:20240320T150000
DTSTAMP:20260421T044729
CREATED:20240131T193123Z
LAST-MODIFIED:20240912T132906Z
UID:7043-1710937800-1710946800@jobs.heritagechristianservices.org
SUMMARY:Niagara University Career Expo
DESCRIPTION:
URL:https://jobs.heritagechristianservices.org/event/niagara-university-career-expo-2/
LOCATION:Niagara University\, 5795 Lewiston Rd\, Niagara University\, NY\, 14109\, United States
END:VEVENT
BEGIN:VEVENT
DTSTART;TZID=America/New_York:20240326T120000
DTEND;TZID=America/New_York:20240326T160000
DTSTAMP:20260421T044729
CREATED:20231201T191630Z
LAST-MODIFIED:20240208T160549Z
UID:6899-1711454400-1711468800@jobs.heritagechristianservices.org
SUMMARY:Rochester Walk-in Tuesdays
DESCRIPTION:
URL:https://jobs.heritagechristianservices.org/event/walk-in-tuesdays-51/
LOCATION:Heritage Christian Services Corporate Office\, 275 Kenneth Drive\, Suite 100\, Rochester\, NY\, 14623\, United States
ATTACH;FMTTYPE=image/jpeg:https://jobs.heritagechristianservices.org/wp-content/uploads/2023/11/6568d25645c85.jpg
END:VEVENT
BEGIN:VEVENT
DTSTART;TZID=America/New_York:20240328T103000
DTEND;TZID=America/New_York:20240328T140000
DTSTAMP:20260421T044729
CREATED:20240307T195950Z
LAST-MODIFIED:20240912T133459Z
UID:7133-1711621800-1711634400@jobs.heritagechristianservices.org
SUMMARY:Hiring Event - Gates Public Library
DESCRIPTION:
URL:https://jobs.heritagechristianservices.org/event/hiring-event-gates-public-library-2/
LOCATION:Irondequoit Public Library\, 1280 Titus Avenue\, Rochester\, NY\, 14617\, United States
ATTACH;FMTTYPE=image/jpeg:https://jobs.heritagechristianservices.org/wp-content/uploads/2021/11/Gates-Public-Library.jpg
END:VEVENT
END:VCALENDAR