BEGIN:VCALENDAR
VERSION:2.0
PRODID:-//Heritage Christian Careers - ECPv6.15.20//NONSGML v1.0//EN
CALSCALE:GREGORIAN
METHOD:PUBLISH
X-WR-CALNAME:Heritage Christian Careers
X-ORIGINAL-URL:https://jobs.heritagechristianservices.org
X-WR-CALDESC:Events for Heritage Christian Careers
REFRESH-INTERVAL;VALUE=DURATION:PT1H
X-Robots-Tag:noindex
X-PUBLISHED-TTL:PT1H
BEGIN:VTIMEZONE
TZID:America/New_York
BEGIN:DAYLIGHT
TZOFFSETFROM:-0500
TZOFFSETTO:-0400
TZNAME:EDT
DTSTART:20220313T070000
END:DAYLIGHT
BEGIN:STANDARD
TZOFFSETFROM:-0400
TZOFFSETTO:-0500
TZNAME:EST
DTSTART:20221106T060000
END:STANDARD
BEGIN:DAYLIGHT
TZOFFSETFROM:-0500
TZOFFSETTO:-0400
TZNAME:EDT
DTSTART:20230312T070000
END:DAYLIGHT
BEGIN:STANDARD
TZOFFSETFROM:-0400
TZOFFSETTO:-0500
TZNAME:EST
DTSTART:20231105T060000
END:STANDARD
BEGIN:DAYLIGHT
TZOFFSETFROM:-0500
TZOFFSETTO:-0400
TZNAME:EDT
DTSTART:20240310T070000
END:DAYLIGHT
BEGIN:STANDARD
TZOFFSETFROM:-0400
TZOFFSETTO:-0500
TZNAME:EST
DTSTART:20241103T060000
END:STANDARD
BEGIN:DAYLIGHT
TZOFFSETFROM:-0500
TZOFFSETTO:-0400
TZNAME:EDT
DTSTART:20250309T070000
END:DAYLIGHT
BEGIN:STANDARD
TZOFFSETFROM:-0400
TZOFFSETTO:-0500
TZNAME:EST
DTSTART:20251102T060000
END:STANDARD
END:VTIMEZONE
BEGIN:VEVENT
DTSTART;TZID=America/New_York:20240116T120000
DTEND;TZID=America/New_York:20240116T160000
DTSTAMP:20260422T073106
CREATED:20231130T184055Z
LAST-MODIFIED:20231130T184055Z
UID:6878-1705406400-1705420800@jobs.heritagechristianservices.org
SUMMARY:Walk-in Tuesdays
DESCRIPTION:
URL:https://jobs.heritagechristianservices.org/event/walk-in-tuesdays-41/
LOCATION:Heritage Christian Services Corporate Office\, 275 Kenneth Drive\, Suite 100\, Rochester\, NY\, 14623\, United States
ATTACH;FMTTYPE=image/jpeg:https://jobs.heritagechristianservices.org/wp-content/uploads/2023/11/6568d2580e883.jpg
END:VEVENT
BEGIN:VEVENT
DTSTART;TZID=America/New_York:20240109T120000
DTEND;TZID=America/New_York:20240109T160000
DTSTAMP:20260422T073106
CREATED:20231130T183652Z
LAST-MODIFIED:20231130T183652Z
UID:6876-1704801600-1704816000@jobs.heritagechristianservices.org
SUMMARY:Walk-in Tuesdays
DESCRIPTION:
URL:https://jobs.heritagechristianservices.org/event/walk-in-tuesdays-40/
LOCATION:Heritage Christian Services Corporate Office\, 275 Kenneth Drive\, Suite 100\, Rochester\, NY\, 14623\, United States
ATTACH;FMTTYPE=image/jpeg:https://jobs.heritagechristianservices.org/wp-content/uploads/2023/11/6568d25a19c78.jpg
END:VEVENT
BEGIN:VEVENT
DTSTART;TZID=America/New_York:20240102T120000
DTEND;TZID=America/New_York:20240102T160000
DTSTAMP:20260422T073106
CREATED:20231130T183059Z
LAST-MODIFIED:20231130T183352Z
UID:6874-1704196800-1704211200@jobs.heritagechristianservices.org
SUMMARY:Walk-in Tuesdays
DESCRIPTION:
URL:https://jobs.heritagechristianservices.org/event/walk-in-tuesdays-39/
LOCATION:Heritage Christian Services Corporate Office\, 275 Kenneth Drive\, Suite 100\, Rochester\, NY\, 14623\, United States
ATTACH;FMTTYPE=image/jpeg:https://jobs.heritagechristianservices.org/wp-content/uploads/2023/11/6568d25645c85.jpg
END:VEVENT
BEGIN:VEVENT
DTSTART;TZID=America/New_York:20231219T120000
DTEND;TZID=America/New_York:20231219T160000
DTSTAMP:20260422T073106
CREATED:20230801T152659Z
LAST-MODIFIED:20230920T172457Z
UID:5795-1702987200-1703001600@jobs.heritagechristianservices.org
SUMMARY:Walk-in Tuesdays
DESCRIPTION:
URL:https://jobs.heritagechristianservices.org/event/walk-in-tuesdays-38/
LOCATION:Heritage Christian Services Corporate Office\, 275 Kenneth Drive\, Suite 100\, Rochester\, NY\, 14623\, United States
ATTACH;FMTTYPE=image/png:https://jobs.heritagechristianservices.org/wp-content/uploads/2023/01/Walk-in-Tuesdays-2-2.png
END:VEVENT
BEGIN:VEVENT
DTSTART;TZID=America/New_York:20231212T120000
DTEND;TZID=America/New_York:20231212T160000
DTSTAMP:20260422T073106
CREATED:20230801T152540Z
LAST-MODIFIED:20231127T160952Z
UID:5793-1702382400-1702396800@jobs.heritagechristianservices.org
SUMMARY:Walk-in Tuesdays
DESCRIPTION:
URL:https://jobs.heritagechristianservices.org/event/walk-in-tuesdays-37/
LOCATION:Heritage Christian Services Corporate Office\, 275 Kenneth Drive\, Suite 100\, Rochester\, NY\, 14623\, United States
ATTACH;FMTTYPE=image/png:https://jobs.heritagechristianservices.org/wp-content/uploads/2023/01/Walk-in-Tuesdays-2-3.png
END:VEVENT
BEGIN:VEVENT
DTSTART;TZID=America/New_York:20231207T120000
DTEND;TZID=America/New_York:20231207T160000
DTSTAMP:20260422T073106
CREATED:20230321T135044Z
LAST-MODIFIED:20230920T172218Z
UID:5589-1701950400-1701964800@jobs.heritagechristianservices.org
SUMMARY:Walk-in Thursdays
DESCRIPTION:
URL:https://jobs.heritagechristianservices.org/event/walk-in-thursdays-8/
LOCATION:Heritage Christian Services Regional Office\, 130 John Muir Dr.\, Suite 106\, Amherst\, NY\, 14228\, United States
ATTACH;FMTTYPE=image/png:https://jobs.heritagechristianservices.org/wp-content/uploads/2023/06/Copy-of-Walk-In-Tuesdays-for-events-4.png
END:VEVENT
BEGIN:VEVENT
DTSTART;TZID=America/New_York:20231205T120000
DTEND;TZID=America/New_York:20231205T160000
DTSTAMP:20260422T073106
CREATED:20230801T152414Z
LAST-MODIFIED:20230920T172119Z
UID:5791-1701777600-1701792000@jobs.heritagechristianservices.org
SUMMARY:Walk-in Tuesdays
DESCRIPTION:
URL:https://jobs.heritagechristianservices.org/event/walk-in-tuesdays-36/
LOCATION:Heritage Christian Services Corporate Office\, 275 Kenneth Drive\, Suite 100\, Rochester\, NY\, 14623\, United States
ATTACH;FMTTYPE=image/png:https://jobs.heritagechristianservices.org/wp-content/uploads/2023/06/Walk-In-Tuesdays-for-events-1.png
END:VEVENT
BEGIN:VEVENT
DTSTART;TZID=America/New_York:20231128T120000
DTEND;TZID=America/New_York:20231128T160000
DTSTAMP:20260422T073106
CREATED:20230801T152227Z
LAST-MODIFIED:20230920T172023Z
UID:5789-1701172800-1701187200@jobs.heritagechristianservices.org
SUMMARY:Walk-in Tuesdays
DESCRIPTION:
URL:https://jobs.heritagechristianservices.org/event/walk-in-tuesdays-35/
LOCATION:Heritage Christian Services Corporate Office\, 275 Kenneth Drive\, Suite 100\, Rochester\, NY\, 14623\, United States
ATTACH;FMTTYPE=image/png:https://jobs.heritagechristianservices.org/wp-content/uploads/2023/01/Walk-in-Tuesdays-2-1.png
END:VEVENT
BEGIN:VEVENT
DTSTART;TZID=America/New_York:20231121T120000
DTEND;TZID=America/New_York:20231121T160000
DTSTAMP:20260422T073106
CREATED:20230801T135335Z
LAST-MODIFIED:20230920T171940Z
UID:5786-1700568000-1700582400@jobs.heritagechristianservices.org
SUMMARY:Walk-in Tuesdays
DESCRIPTION:
URL:https://jobs.heritagechristianservices.org/event/walk-in-tuesdays-34/
LOCATION:Heritage Christian Services Corporate Office\, 275 Kenneth Drive\, Suite 100\, Rochester\, NY\, 14623\, United States
ATTACH;FMTTYPE=image/png:https://jobs.heritagechristianservices.org/wp-content/uploads/2023/01/Walk-in-Tuesdays-2-2.png
END:VEVENT
BEGIN:VEVENT
DTSTART;TZID=America/New_York:20231117T103000
DTEND;TZID=America/New_York:20231117T140000
DTSTAMP:20260422T073106
CREATED:20231031T133158Z
LAST-MODIFIED:20231031T142720Z
UID:6856-1700217000-1700229600@jobs.heritagechristianservices.org
SUMMARY:Hiring Event - Webster Public Library
DESCRIPTION:
URL:https://jobs.heritagechristianservices.org/event/hiring-event-webster-public-library-6/
LOCATION:Webster Public Library\, 980 Ridge Road\, Webster\, NY\, 14580\, United States
ATTACH;FMTTYPE=image/jpeg:https://jobs.heritagechristianservices.org/wp-content/uploads/2018/08/webster-public-library-e1553881996554.jpg
END:VEVENT
BEGIN:VEVENT
DTSTART;TZID=America/New_York:20231114T120000
DTEND;TZID=America/New_York:20231114T160000
DTSTAMP:20260422T073106
CREATED:20230801T135118Z
LAST-MODIFIED:20230920T171825Z
UID:5784-1699963200-1699977600@jobs.heritagechristianservices.org
SUMMARY:Walk-in Tuesdays
DESCRIPTION:
URL:https://jobs.heritagechristianservices.org/event/walk-in-tuesdays-33/
LOCATION:Heritage Christian Services Corporate Office\, 275 Kenneth Drive\, Suite 100\, Rochester\, NY\, 14623\, United States
ATTACH;FMTTYPE=image/png:https://jobs.heritagechristianservices.org/wp-content/uploads/2023/01/Walk-in-Tuesdays-2-3.png
END:VEVENT
BEGIN:VEVENT
DTSTART;TZID=America/New_York:20231111T090000
DTEND;TZID=America/New_York:20231111T130000
DTSTAMP:20260422T073106
CREATED:20230510T155703Z
LAST-MODIFIED:20230920T171654Z
UID:5654-1699693200-1699707600@jobs.heritagechristianservices.org
SUMMARY:Saturday Hiring Event
DESCRIPTION:
URL:https://jobs.heritagechristianservices.org/event/saturday-hiring-event-rochester-3/
LOCATION:HCS Corporate Office\, 275 Kenneth Drive\, Suite 100\, Rochester\, NY\, 14623\, United States
ATTACH;FMTTYPE=image/png:https://jobs.heritagechristianservices.org/wp-content/uploads/2023/01/Walk-in-Sat-for-events-1.png
END:VEVENT
BEGIN:VEVENT
DTSTART;TZID=America/New_York:20231107T120000
DTEND;TZID=America/New_York:20231107T160000
DTSTAMP:20260422T073106
CREATED:20230801T134957Z
LAST-MODIFIED:20230920T171542Z
UID:5782-1699358400-1699372800@jobs.heritagechristianservices.org
SUMMARY:Walk-in Tuesdays
DESCRIPTION:
URL:https://jobs.heritagechristianservices.org/event/walk-in-tuesdays-32/
LOCATION:Heritage Christian Services Corporate Office\, 275 Kenneth Drive\, Suite 100\, Rochester\, NY\, 14623\, United States
ATTACH;FMTTYPE=image/png:https://jobs.heritagechristianservices.org/wp-content/uploads/2023/06/Walk-In-Tuesdays-for-events-1.png
END:VEVENT
BEGIN:VEVENT
DTSTART;TZID=America/New_York:20231102T120000
DTEND;TZID=America/New_York:20231102T160000
DTSTAMP:20260422T073106
CREATED:20230321T134955Z
LAST-MODIFIED:20230920T171428Z
UID:5587-1698926400-1698940800@jobs.heritagechristianservices.org
SUMMARY:Walk-in Thursdays
DESCRIPTION:
URL:https://jobs.heritagechristianservices.org/event/walk-in-thursdays-7/
LOCATION:Heritage Christian Services Regional Office\, 130 John Muir Dr.\, Suite 106\, Amherst\, NY\, 14228\, United States
ATTACH;FMTTYPE=image/png:https://jobs.heritagechristianservices.org/wp-content/uploads/2023/06/Copy-of-Walk-In-Tuesdays-for-events-2.png
END:VEVENT
BEGIN:VEVENT
DTSTART;TZID=America/New_York:20231031T120000
DTEND;TZID=America/New_York:20231031T160000
DTSTAMP:20260422T073106
CREATED:20230801T132725Z
LAST-MODIFIED:20230920T171343Z
UID:5780-1698753600-1698768000@jobs.heritagechristianservices.org
SUMMARY:Walk-in Tuesdays
DESCRIPTION:
URL:https://jobs.heritagechristianservices.org/event/walk-in-tuesdays-31/
LOCATION:Heritage Christian Services Corporate Office\, 275 Kenneth Drive\, Suite 100\, Rochester\, NY\, 14623\, United States
ATTACH;FMTTYPE=image/png:https://jobs.heritagechristianservices.org/wp-content/uploads/2023/06/Walk-In-Tuesdays-for-events.png
END:VEVENT
BEGIN:VEVENT
DTSTART;TZID=America/New_York:20231030T160000
DTEND;TZID=America/New_York:20231030T170000
DTSTAMP:20260422T073106
CREATED:20231004T165846Z
LAST-MODIFIED:20231004T165846Z
UID:6848-1698681600-1698685200@jobs.heritagechristianservices.org
SUMMARY:Recruitment Table - LPN Job Fair at WNY BOCES
DESCRIPTION:
URL:https://jobs.heritagechristianservices.org/event/recruitment-table-lpn-job-fair-at-wny-boces/
LOCATION:WNY BOCES\, 355 Harlem Rd\, West Seneca\, NY\, 14224\, United States
END:VEVENT
BEGIN:VEVENT
DTSTART;TZID=America/New_York:20231024T120000
DTEND;TZID=America/New_York:20231024T160000
DTSTAMP:20260422T073106
CREATED:20230801T132514Z
LAST-MODIFIED:20230920T171258Z
UID:5777-1698148800-1698163200@jobs.heritagechristianservices.org
SUMMARY:Walk-in Tuesdays
DESCRIPTION:
URL:https://jobs.heritagechristianservices.org/event/walk-in-tuesdays-30/
LOCATION:Heritage Christian Services Corporate Office\, 275 Kenneth Drive\, Suite 100\, Rochester\, NY\, 14623\, United States
ATTACH;FMTTYPE=image/png:https://jobs.heritagechristianservices.org/wp-content/uploads/2023/01/Walk-in-Tuesdays-2-1.png
END:VEVENT
BEGIN:VEVENT
DTSTART;TZID=America/New_York:20231024T113000
DTEND;TZID=America/New_York:20231024T130000
DTSTAMP:20260422T073106
CREATED:20231004T165647Z
LAST-MODIFIED:20231004T165647Z
UID:6846-1698147000-1698152400@jobs.heritagechristianservices.org
SUMMARY:Recruitment Table - Buffalo State Job Fair
DESCRIPTION:
URL:https://jobs.heritagechristianservices.org/event/recruitment-table-buffalo-state-job-fair/
LOCATION:Buffalo State College Campbell Student Union Social Hall\, 1300 Elmwood Ave.\, Buffalo\, NY\, 14222\, United States
END:VEVENT
BEGIN:VEVENT
DTSTART;TZID=America/New_York:20231020T103000
DTEND;TZID=America/New_York:20231020T140000
DTSTAMP:20260422T073106
CREATED:20230913T175616Z
LAST-MODIFIED:20230920T134323Z
UID:6792-1697797800-1697810400@jobs.heritagechristianservices.org
SUMMARY:Hiring Event - Henrietta Public Library
DESCRIPTION:
URL:https://jobs.heritagechristianservices.org/event/hiring-event-henrietta-public-library-3/
LOCATION:Henrietta Public Library\, 625 Calkins Rd\, Rochester\, NY\, 14623
ATTACH;FMTTYPE=image/png:https://jobs.heritagechristianservices.org/wp-content/uploads/2022/07/Henrietta-Public-Library.jfif_.png
END:VEVENT
BEGIN:VEVENT
DTSTART;TZID=America/New_York:20231018T113000
DTEND;TZID=America/New_York:20231018T130000
DTSTAMP:20260422T073106
CREATED:20231004T150149Z
LAST-MODIFIED:20231004T150222Z
UID:6844-1697628600-1697634000@jobs.heritagechristianservices.org
SUMMARY:Recruitment Table - Buffalo State
DESCRIPTION:
URL:https://jobs.heritagechristianservices.org/event/recruitment-table-buffalo-state/
LOCATION:Buffalo State College Campbell Student Union Social Hall\, 1300 Elmwood Ave.\, Buffalo\, NY\, 14222\, United States
END:VEVENT
BEGIN:VEVENT
DTSTART;TZID=America/New_York:20231017T120000
DTEND;TZID=America/New_York:20231017T160000
DTSTAMP:20260422T073106
CREATED:20230801T132353Z
LAST-MODIFIED:20230920T155320Z
UID:5775-1697544000-1697558400@jobs.heritagechristianservices.org
SUMMARY:Walk-in Tuesdays
DESCRIPTION:
URL:https://jobs.heritagechristianservices.org/event/walk-in-tuesdays-29/
LOCATION:Heritage Christian Services Corporate Office\, 275 Kenneth Drive\, Suite 100\, Rochester\, NY\, 14623\, United States
ATTACH;FMTTYPE=image/png:https://jobs.heritagechristianservices.org/wp-content/uploads/2023/06/Walk-In-Tuesdays-for-events-1.png
END:VEVENT
BEGIN:VEVENT
DTSTART;TZID=America/New_York:20231012T113000
DTEND;TZID=America/New_York:20231012T140000
DTSTAMP:20260422T073106
CREATED:20231004T150035Z
LAST-MODIFIED:20231004T150035Z
UID:6842-1697110200-1697119200@jobs.heritagechristianservices.org
SUMMARY:Recruitment Table - MCC Brighton Campus
DESCRIPTION:
URL:https://jobs.heritagechristianservices.org/event/recruitment-table-mcc-brighton-campus/
LOCATION:Monroe Community College\, 1000 East Henrietta Road\, Rochester\, NY\, 14623\, United States
END:VEVENT
BEGIN:VEVENT
DTSTART;TZID=America/New_York:20231011T170000
DTEND;TZID=America/New_York:20231011T210000
DTSTAMP:20260422T073106
CREATED:20231004T141030Z
LAST-MODIFIED:20231004T141030Z
UID:6839-1697043600-1697058000@jobs.heritagechristianservices.org
SUMMARY:Recruitment Table - Nurses Night at M Hotel Ballroom
DESCRIPTION:
URL:https://jobs.heritagechristianservices.org/event/recruitment-table-nurses-night-at-m-hotel-ballroom/
LOCATION:M Hotel Ballroom\, 2040 Walden Ave.\, Cheektowaga\, NY\, 14225\, United States
END:VEVENT
BEGIN:VEVENT
DTSTART;TZID=America/New_York:20231010T120000
DTEND;TZID=America/New_York:20231010T160000
DTSTAMP:20260422T073106
CREATED:20230801T132204Z
LAST-MODIFIED:20230920T155218Z
UID:5773-1696939200-1696953600@jobs.heritagechristianservices.org
SUMMARY:Walk-in Tuesdays
DESCRIPTION:
URL:https://jobs.heritagechristianservices.org/event/walk-in-tuesdays-28/
LOCATION:Heritage Christian Services Corporate Office\, 275 Kenneth Drive\, Suite 100\, Rochester\, NY\, 14623\, United States
ATTACH;FMTTYPE=image/png:https://jobs.heritagechristianservices.org/wp-content/uploads/2023/01/Walk-in-Tuesdays-2-3.png
END:VEVENT
BEGIN:VEVENT
DTSTART;TZID=America/New_York:20231009T110000
DTEND;TZID=America/New_York:20231009T130000
DTSTAMP:20260422T073106
CREATED:20231004T140619Z
LAST-MODIFIED:20231004T140619Z
UID:6837-1696849200-1696856400@jobs.heritagechristianservices.org
SUMMARY:Recruitment Table - St. John Fisher Library
DESCRIPTION:
URL:https://jobs.heritagechristianservices.org/event/recruitment-table-st-john-fisher-library/
LOCATION:St. John Fisher College\, 3690 East Avenue\, Rochester\, NY\, 14618\, United States
ATTACH;FMTTYPE=image/jpeg:https://jobs.heritagechristianservices.org/wp-content/uploads/2018/11/StJohnFisherCollegeLogo.jpg
END:VEVENT
BEGIN:VEVENT
DTSTART;TZID=America/New_York:20231005T120000
DTEND;TZID=America/New_York:20231005T160000
DTSTAMP:20260422T073106
CREATED:20230321T134905Z
LAST-MODIFIED:20230920T155123Z
UID:5585-1696507200-1696521600@jobs.heritagechristianservices.org
SUMMARY:Walk-in Thursdays
DESCRIPTION:
URL:https://jobs.heritagechristianservices.org/event/walk-in-thursdays-6/
LOCATION:Heritage Christian Services Regional Office\, 130 John Muir Dr.\, Suite 106\, Amherst\, NY\, 14228\, United States
ATTACH;FMTTYPE=image/png:https://jobs.heritagechristianservices.org/wp-content/uploads/2023/06/Copy-of-Walk-In-Tuesdays-for-events-5.png
END:VEVENT
BEGIN:VEVENT
DTSTART;TZID=America/New_York:20231005T110000
DTEND;TZID=America/New_York:20231005T123000
DTSTAMP:20260422T073106
CREATED:20231004T140453Z
LAST-MODIFIED:20231004T140453Z
UID:6835-1696503600-1696509000@jobs.heritagechristianservices.org
SUMMARY:Recruitment Table - Villa Maria College Fair
DESCRIPTION:
URL:https://jobs.heritagechristianservices.org/event/recruitment-table-villa-maria-college-fair/
LOCATION:Villa Maria College – Dining Hall\, 240 Pine Ridge Road\, Buffalo\, NY\, 14225\, United States
END:VEVENT
BEGIN:VEVENT
DTSTART;TZID=America/New_York:20231003T120000
DTEND;TZID=America/New_York:20231003T160000
DTSTAMP:20260422T073106
CREATED:20230801T132102Z
LAST-MODIFIED:20230920T155051Z
UID:5771-1696334400-1696348800@jobs.heritagechristianservices.org
SUMMARY:Walk-in Tuesdays
DESCRIPTION:
URL:https://jobs.heritagechristianservices.org/event/walk-in-tuesdays-27/
LOCATION:Heritage Christian Services Corporate Office\, 275 Kenneth Drive\, Suite 100\, Rochester\, NY\, 14623\, United States
ATTACH;FMTTYPE=image/png:https://jobs.heritagechristianservices.org/wp-content/uploads/2023/01/Walk-in-Tuesdays-2-2.png
END:VEVENT
BEGIN:VEVENT
DTSTART;TZID=America/New_York:20230929T103000
DTEND;TZID=America/New_York:20230929T140000
DTSTAMP:20260422T073106
CREATED:20230911T155944Z
LAST-MODIFIED:20230920T134231Z
UID:6790-1695983400-1695996000@jobs.heritagechristianservices.org
SUMMARY:Hiring Event - Irondequoit Public Library
DESCRIPTION:
URL:https://jobs.heritagechristianservices.org/event/hiring-event-irondequoit-public-library-3/
LOCATION:Irondequoit Public Library\, 1290 Titus Ave\, Rochester\, NY\, 14617\, United States
ATTACH;FMTTYPE=image/jpeg:https://jobs.heritagechristianservices.org/wp-content/uploads/2022/04/Irondequoit.jpg
END:VEVENT
BEGIN:VEVENT
DTSTART;TZID=America/New_York:20230926T120000
DTEND;TZID=America/New_York:20230926T160000
DTSTAMP:20260422T073106
CREATED:20230801T131817Z
LAST-MODIFIED:20230920T155016Z
UID:5769-1695729600-1695744000@jobs.heritagechristianservices.org
SUMMARY:Walk-in Tuesdays
DESCRIPTION:
URL:https://jobs.heritagechristianservices.org/event/walk-in-tuesdays-26/
LOCATION:Heritage Christian Services Corporate Office\, 275 Kenneth Drive\, Suite 100\, Rochester\, NY\, 14623\, United States
ATTACH;FMTTYPE=image/png:https://jobs.heritagechristianservices.org/wp-content/uploads/2023/06/Walk-In-Tuesdays-for-events.png
END:VEVENT
END:VCALENDAR