BEGIN:VCALENDAR
VERSION:2.0
PRODID:-//Heritage Christian Careers - ECPv6.15.20//NONSGML v1.0//EN
CALSCALE:GREGORIAN
METHOD:PUBLISH
X-WR-CALNAME:Heritage Christian Careers
X-ORIGINAL-URL:https://jobs.heritagechristianservices.org
X-WR-CALDESC:Events for Heritage Christian Careers
REFRESH-INTERVAL;VALUE=DURATION:PT1H
X-Robots-Tag:noindex
X-PUBLISHED-TTL:PT1H
BEGIN:VTIMEZONE
TZID:America/New_York
BEGIN:DAYLIGHT
TZOFFSETFROM:-0500
TZOFFSETTO:-0400
TZNAME:EDT
DTSTART:20240310T070000
END:DAYLIGHT
BEGIN:STANDARD
TZOFFSETFROM:-0400
TZOFFSETTO:-0500
TZNAME:EST
DTSTART:20241103T060000
END:STANDARD
BEGIN:DAYLIGHT
TZOFFSETFROM:-0500
TZOFFSETTO:-0400
TZNAME:EDT
DTSTART:20250309T070000
END:DAYLIGHT
BEGIN:STANDARD
TZOFFSETFROM:-0400
TZOFFSETTO:-0500
TZNAME:EST
DTSTART:20251102T060000
END:STANDARD
BEGIN:DAYLIGHT
TZOFFSETFROM:-0500
TZOFFSETTO:-0400
TZNAME:EDT
DTSTART:20260308T070000
END:DAYLIGHT
BEGIN:STANDARD
TZOFFSETFROM:-0400
TZOFFSETTO:-0500
TZNAME:EST
DTSTART:20261101T060000
END:STANDARD
BEGIN:DAYLIGHT
TZOFFSETFROM:-0500
TZOFFSETTO:-0400
TZNAME:EDT
DTSTART:20270314T070000
END:DAYLIGHT
BEGIN:STANDARD
TZOFFSETFROM:-0400
TZOFFSETTO:-0500
TZNAME:EST
DTSTART:20271107T060000
END:STANDARD
END:VTIMEZONE
BEGIN:VEVENT
DTSTART;TZID=America/New_York:20250902T110000
DTEND;TZID=America/New_York:20250902T150000
DTSTAMP:20260422T065329
CREATED:20250807T193108Z
LAST-MODIFIED:20250807T193108Z
UID:8391-1756810800-1756825200@jobs.heritagechristianservices.org
SUMMARY:Rochester Walk-in Tuesdays
DESCRIPTION:Apply for a job at Heritage Christian Services Walk-in Tuesdays!
URL:https://jobs.heritagechristianservices.org/event/rochester-walk-in-tuesdays-65/
LOCATION:Heritage Christian Services Corporate Office\, 275 Kenneth Drive\, Suite 100\, Rochester\, NY\, 14623\, United States
ATTACH;FMTTYPE=image/jpeg:https://jobs.heritagechristianservices.org/wp-content/uploads/2023/11/6568d253ca2ea.jpg
END:VEVENT
BEGIN:VEVENT
DTSTART;TZID=America/New_York:20250909T110000
DTEND;TZID=America/New_York:20250909T150000
DTSTAMP:20260422T065329
CREATED:20250807T194545Z
LAST-MODIFIED:20250807T194545Z
UID:8393-1757415600-1757430000@jobs.heritagechristianservices.org
SUMMARY:Rochester Walk-in Tuesdays
DESCRIPTION:Apply for a job at Heritage Christian Services Walk-in Tuesdays!
URL:https://jobs.heritagechristianservices.org/event/rochester-walk-in-tuesdays-66/
LOCATION:Heritage Christian Services Corporate Office\, 275 Kenneth Drive\, Suite 100\, Rochester\, NY\, 14623\, United States
ATTACH;FMTTYPE=image/jpeg:https://jobs.heritagechristianservices.org/wp-content/uploads/2023/11/6568d253ca2ea.jpg
END:VEVENT
BEGIN:VEVENT
DTSTART;TZID=America/New_York:20250913T090000
DTEND;TZID=America/New_York:20250913T130000
DTSTAMP:20260422T065329
CREATED:20241119T181441Z
LAST-MODIFIED:20250311T140958Z
UID:7845-1757754000-1757768400@jobs.heritagechristianservices.org
SUMMARY:Saturday Hiring Event
DESCRIPTION:
URL:https://jobs.heritagechristianservices.org/event/saturday-hiring-event-8/
LOCATION:Heritage Christian Services Corporate Office\, 275 Kenneth Drive\, Suite 100\, Rochester\, NY\, 14623\, United States
ATTACH;FMTTYPE=image/jpeg:https://jobs.heritagechristianservices.org/wp-content/uploads/2023/11/6568d261dec2f.jpg
END:VEVENT
BEGIN:VEVENT
DTSTART;TZID=America/New_York:20250916T110000
DTEND;TZID=America/New_York:20250916T150000
DTSTAMP:20260422T065329
CREATED:20250807T194613Z
LAST-MODIFIED:20250807T194613Z
UID:8395-1758020400-1758034800@jobs.heritagechristianservices.org
SUMMARY:Rochester Walk-in Tuesdays
DESCRIPTION:Apply for a job at Heritage Christian Services Walk-in Tuesdays!
URL:https://jobs.heritagechristianservices.org/event/rochester-walk-in-tuesdays-67/
LOCATION:Heritage Christian Services Corporate Office\, 275 Kenneth Drive\, Suite 100\, Rochester\, NY\, 14623\, United States
ATTACH;FMTTYPE=image/jpeg:https://jobs.heritagechristianservices.org/wp-content/uploads/2023/11/6568d253ca2ea.jpg
END:VEVENT
BEGIN:VEVENT
DTSTART;TZID=America/New_York:20250923T110000
DTEND;TZID=America/New_York:20250923T150000
DTSTAMP:20260422T065329
CREATED:20250318T151154Z
LAST-MODIFIED:20250318T151303Z
UID:7995-1758625200-1758639600@jobs.heritagechristianservices.org
SUMMARY:Rochester Walk-in Tuesdays
DESCRIPTION:Apply for a job at Heritage Christian Services Walk-in Tuesdays!
URL:https://jobs.heritagechristianservices.org/event/rochester-walk-in-tuesdays-50/
LOCATION:Heritage Christian Services Corporate Office\, 275 Kenneth Drive\, Suite 100\, Rochester\, NY\, 14623\, United States
ATTACH;FMTTYPE=image/jpeg:https://jobs.heritagechristianservices.org/wp-content/uploads/2023/11/6568d253ca2ea.jpg
END:VEVENT
BEGIN:VEVENT
DTSTART;TZID=America/New_York:20250926T100000
DTEND;TZID=America/New_York:20250926T133000
DTSTAMP:20260422T065329
CREATED:20250905T140132Z
LAST-MODIFIED:20250905T140132Z
UID:8431-1758880800-1758893400@jobs.heritagechristianservices.org
SUMMARY:Hiring Event - Gates Public Library
DESCRIPTION:
URL:https://jobs.heritagechristianservices.org/event/hiring-event-gates-public-library-3/
LOCATION:David F Gantt Recreation Center\, 700 North St\, Rochester\, NY\, 14605\, United States
ATTACH;FMTTYPE=image/jpeg:https://jobs.heritagechristianservices.org/wp-content/uploads/2021/11/Gates-Public-Library.jpg
END:VEVENT
BEGIN:VEVENT
DTSTART;TZID=America/New_York:20250930T110000
DTEND;TZID=America/New_York:20250930T133000
DTSTAMP:20260422T065329
CREATED:20250905T140617Z
LAST-MODIFIED:20250925T154759Z
UID:8433-1759230000-1759239000@jobs.heritagechristianservices.org
SUMMARY:Hiring Direct Support Staff for Community Habilitation – Ogden Farmers Library
DESCRIPTION:
URL:https://jobs.heritagechristianservices.org/event/hiring-direct-support-staff-for-community-habilitation-ogden-farmers-library/
LOCATION:Irondequoit Public Library\, 1290 Titus Ave\, Rochester\, NY\, 14617\, United States
END:VEVENT
BEGIN:VEVENT
DTSTART;TZID=America/New_York:20250930T110000
DTEND;TZID=America/New_York:20250930T150000
DTSTAMP:20260422T065329
CREATED:20250318T151355Z
LAST-MODIFIED:20250318T151355Z
UID:7997-1759230000-1759244400@jobs.heritagechristianservices.org
SUMMARY:Rochester Walk-in Tuesdays
DESCRIPTION:Apply for a job at Heritage Christian Services Walk-in Tuesdays!
URL:https://jobs.heritagechristianservices.org/event/rochester-walk-in-tuesdays-51/
LOCATION:Heritage Christian Services Corporate Office\, 275 Kenneth Drive\, Suite 100\, Rochester\, NY\, 14623\, United States
ATTACH;FMTTYPE=image/jpeg:https://jobs.heritagechristianservices.org/wp-content/uploads/2023/11/6568d253ca2ea.jpg
END:VEVENT
BEGIN:VEVENT
DTSTART;TZID=America/New_York:20251007T110000
DTEND;TZID=America/New_York:20251007T150000
DTSTAMP:20260422T065329
CREATED:20250114T165938Z
LAST-MODIFIED:20250311T141036Z
UID:7889-1759834800-1759849200@jobs.heritagechristianservices.org
SUMMARY:Buffalo Walk-in Tuesdays
DESCRIPTION:Apply for a job at Heritage Christian Services Walk-in Tuesdays!
URL:https://jobs.heritagechristianservices.org/event/buffalo-walk-in-tuesdays-15/
LOCATION:Heritage Christian Services Regional Office\, 130 John Muir Dr.\, Suite 106\, Amherst\, NY\, 14228\, United States
ATTACH;FMTTYPE=image/png:https://jobs.heritagechristianservices.org/wp-content/uploads/2024/05/2.png
END:VEVENT
BEGIN:VEVENT
DTSTART;TZID=America/New_York:20251007T110000
DTEND;TZID=America/New_York:20251007T150000
DTSTAMP:20260422T065329
CREATED:20250808T142855Z
LAST-MODIFIED:20250808T142855Z
UID:8399-1759834800-1759849200@jobs.heritagechristianservices.org
SUMMARY:Rochester Walk-in Tuesdays
DESCRIPTION:Apply for a job at Heritage Christian Services Walk-in Tuesdays!
URL:https://jobs.heritagechristianservices.org/event/rochester-walk-in-tuesdays-68/
LOCATION:Heritage Christian Services Corporate Office\, 275 Kenneth Drive\, Suite 100\, Rochester\, NY\, 14623\, United States
ATTACH;FMTTYPE=image/jpeg:https://jobs.heritagechristianservices.org/wp-content/uploads/2023/11/6568d253ca2ea.jpg
END:VEVENT
BEGIN:VEVENT
DTSTART;TZID=America/New_York:20251014T110000
DTEND;TZID=America/New_York:20251014T150000
DTSTAMP:20260422T065329
CREATED:20250318T151549Z
LAST-MODIFIED:20250318T151549Z
UID:8001-1760439600-1760454000@jobs.heritagechristianservices.org
SUMMARY:Rochester Walk-in Tuesdays
DESCRIPTION:Apply for a job at Heritage Christian Services Walk-in Tuesdays!
URL:https://jobs.heritagechristianservices.org/event/rochester-walk-in-tuesdays-53/
LOCATION:Heritage Christian Services Corporate Office\, 275 Kenneth Drive\, Suite 100\, Rochester\, NY\, 14623\, United States
ATTACH;FMTTYPE=image/jpeg:https://jobs.heritagechristianservices.org/wp-content/uploads/2023/11/6568d253ca2ea.jpg
END:VEVENT
BEGIN:VEVENT
DTSTART;TZID=America/New_York:20251021T110000
DTEND;TZID=America/New_York:20251021T150000
DTSTAMP:20260422T065329
CREATED:20250318T151624Z
LAST-MODIFIED:20250318T151624Z
UID:8003-1761044400-1761058800@jobs.heritagechristianservices.org
SUMMARY:Rochester Walk-in Tuesdays
DESCRIPTION:Apply for a job at Heritage Christian Services Walk-in Tuesdays!
URL:https://jobs.heritagechristianservices.org/event/rochester-walk-in-tuesdays-54/
LOCATION:Heritage Christian Services Corporate Office\, 275 Kenneth Drive\, Suite 100\, Rochester\, NY\, 14623\, United States
ATTACH;FMTTYPE=image/jpeg:https://jobs.heritagechristianservices.org/wp-content/uploads/2023/11/6568d253ca2ea.jpg
END:VEVENT
BEGIN:VEVENT
DTSTART;TZID=America/New_York:20251028T110000
DTEND;TZID=America/New_York:20251028T150000
DTSTAMP:20260422T065329
CREATED:20250318T151830Z
LAST-MODIFIED:20250318T151830Z
UID:8005-1761649200-1761663600@jobs.heritagechristianservices.org
SUMMARY:Rochester Walk-in Tuesdays
DESCRIPTION:Apply for a job at Heritage Christian Services Walk-in Tuesdays!
URL:https://jobs.heritagechristianservices.org/event/rochester-walk-in-tuesdays-55/
LOCATION:Heritage Christian Services Corporate Office\, 275 Kenneth Drive\, Suite 100\, Rochester\, NY\, 14623\, United States
ATTACH;FMTTYPE=image/jpeg:https://jobs.heritagechristianservices.org/wp-content/uploads/2023/11/6568d253ca2ea.jpg
END:VEVENT
BEGIN:VEVENT
DTSTART;TZID=America/New_York:20251030T120000
DTEND;TZID=America/New_York:20251030T180000
DTSTAMP:20260422T065329
CREATED:20251014T171420Z
LAST-MODIFIED:20251014T171420Z
UID:8447-1761825600-1761847200@jobs.heritagechristianservices.org
SUMMARY:Rochester Extended Hours Walk-In Hiring Event
DESCRIPTION:Apply for a job at Heritage Christian Services!
URL:https://jobs.heritagechristianservices.org/event/rochester-extended-hours-walk-in-hiring-event-2/
LOCATION:Heritage Christian Services Corporate Office\, 275 Kenneth Drive\, Suite 100\, Rochester\, NY\, 14623\, United States
ATTACH;FMTTYPE=image/png:https://jobs.heritagechristianservices.org/wp-content/uploads/2025/03/Walk-In-Tuesdays-for-events-Rochester.png
END:VEVENT
BEGIN:VEVENT
DTSTART;TZID=America/New_York:20251031T103000
DTEND;TZID=America/New_York:20251031T130000
DTSTAMP:20260422T065329
CREATED:20251007T193629Z
LAST-MODIFIED:20251007T193629Z
UID:8445-1761906600-1761915600@jobs.heritagechristianservices.org
SUMMARY:Hiring Event – Webster Public Library
DESCRIPTION:
URL:https://jobs.heritagechristianservices.org/event/hiring-event-webster-public-library-16/
LOCATION:Webster Public Library\, 980 Ridge Road\, Webster\, NY\, 14580\, United States
ATTACH;FMTTYPE=image/jpeg:https://jobs.heritagechristianservices.org/wp-content/uploads/2018/08/webster-public-library-e1553881996554.jpg
END:VEVENT
BEGIN:VEVENT
DTSTART;TZID=America/New_York:20251104T110000
DTEND;TZID=America/New_York:20251104T150000
DTSTAMP:20260422T065329
CREATED:20250114T170024Z
LAST-MODIFIED:20250311T141147Z
UID:7891-1762254000-1762268400@jobs.heritagechristianservices.org
SUMMARY:Buffalo Walk-in Tuesdays
DESCRIPTION:Apply for a job at Heritage Christian Services Walk-in Tuesdays!
URL:https://jobs.heritagechristianservices.org/event/buffalo-walk-in-tuesdays-16/
LOCATION:Heritage Christian Services Regional Office\, 130 John Muir Dr.\, Suite 106\, Amherst\, NY\, 14228\, United States
ATTACH;FMTTYPE=image/png:https://jobs.heritagechristianservices.org/wp-content/uploads/2024/05/2.png
END:VEVENT
BEGIN:VEVENT
DTSTART;TZID=America/New_York:20251104T110000
DTEND;TZID=America/New_York:20251104T150000
DTSTAMP:20260422T065329
CREATED:20250318T151927Z
LAST-MODIFIED:20250318T151927Z
UID:8007-1762254000-1762268400@jobs.heritagechristianservices.org
SUMMARY:Rochester Walk-in Tuesdays
DESCRIPTION:Apply for a job at Heritage Christian Services Walk-in Tuesdays!
URL:https://jobs.heritagechristianservices.org/event/rochester-walk-in-tuesdays-56/
LOCATION:Heritage Christian Services Corporate Office\, 275 Kenneth Drive\, Suite 100\, Rochester\, NY\, 14623\, United States
ATTACH;FMTTYPE=image/jpeg:https://jobs.heritagechristianservices.org/wp-content/uploads/2023/11/6568d253ca2ea.jpg
END:VEVENT
BEGIN:VEVENT
DTSTART;TZID=America/New_York:20251108T090000
DTEND;TZID=America/New_York:20251108T130000
DTSTAMP:20260422T065329
CREATED:20241119T181533Z
LAST-MODIFIED:20250311T153631Z
UID:7847-1762592400-1762606800@jobs.heritagechristianservices.org
SUMMARY:Saturday Hiring Event
DESCRIPTION:
URL:https://jobs.heritagechristianservices.org/event/saturday-hiring-event-9/
LOCATION:Heritage Christian Services Corporate Office\, 275 Kenneth Drive\, Suite 100\, Rochester\, NY\, 14623\, United States
ATTACH;FMTTYPE=image/jpeg:https://jobs.heritagechristianservices.org/wp-content/uploads/2023/11/6568d261dec2f.jpg
END:VEVENT
BEGIN:VEVENT
DTSTART;TZID=America/New_York:20251111T110000
DTEND;TZID=America/New_York:20251111T150000
DTSTAMP:20260422T065329
CREATED:20250318T152007Z
LAST-MODIFIED:20250318T152007Z
UID:8009-1762858800-1762873200@jobs.heritagechristianservices.org
SUMMARY:Rochester Walk-in Tuesdays
DESCRIPTION:Apply for a job at Heritage Christian Services Walk-in Tuesdays!
URL:https://jobs.heritagechristianservices.org/event/rochester-walk-in-tuesdays-57/
LOCATION:Heritage Christian Services Corporate Office\, 275 Kenneth Drive\, Suite 100\, Rochester\, NY\, 14623\, United States
ATTACH;FMTTYPE=image/jpeg:https://jobs.heritagechristianservices.org/wp-content/uploads/2023/11/6568d253ca2ea.jpg
END:VEVENT
BEGIN:VEVENT
DTSTART;TZID=America/New_York:20251118T110000
DTEND;TZID=America/New_York:20251118T150000
DTSTAMP:20260422T065329
CREATED:20250818T133520Z
LAST-MODIFIED:20250818T133520Z
UID:8425-1763463600-1763478000@jobs.heritagechristianservices.org
SUMMARY:Rochester Walk-in Tuesdays
DESCRIPTION:Apply for a job at Heritage Christian Services Walk-in Tuesdays!
URL:https://jobs.heritagechristianservices.org/event/rochester-walk-in-tuesdays-69/
LOCATION:Heritage Christian Services Corporate Office\, 275 Kenneth Drive\, Suite 100\, Rochester\, NY\, 14623\, United States
ATTACH;FMTTYPE=image/jpeg:https://jobs.heritagechristianservices.org/wp-content/uploads/2023/11/6568d253ca2ea.jpg
END:VEVENT
BEGIN:VEVENT
DTSTART;TZID=America/New_York:20251120T113000
DTEND;TZID=America/New_York:20251120T143000
DTSTAMP:20260422T065329
CREATED:20251107T150125Z
LAST-MODIFIED:20251114T174851Z
UID:8457-1763638200-1763649000@jobs.heritagechristianservices.org
SUMMARY:Hiring Event – Irondequoit Public Library
DESCRIPTION:
URL:https://jobs.heritagechristianservices.org/event/hiring-event-irondequoit-public-library-8/
LOCATION:Irondequoit Public Library\, 1290 Titus Ave\, Rochester\, NY\, 14617\, United States
ATTACH;FMTTYPE=image/jpeg:https://jobs.heritagechristianservices.org/wp-content/uploads/2022/04/Irondequoit.jpg
END:VEVENT
BEGIN:VEVENT
DTSTART;TZID=America/New_York:20251125T110000
DTEND;TZID=America/New_York:20251125T150000
DTSTAMP:20260422T065329
CREATED:20250318T152214Z
LAST-MODIFIED:20250318T152214Z
UID:8014-1764068400-1764082800@jobs.heritagechristianservices.org
SUMMARY:Rochester Walk-in Tuesdays
DESCRIPTION:Apply for a job at Heritage Christian Services Walk-in Tuesdays!
URL:https://jobs.heritagechristianservices.org/event/rochester-walk-in-tuesdays-59/
LOCATION:Heritage Christian Services Corporate Office\, 275 Kenneth Drive\, Suite 100\, Rochester\, NY\, 14623\, United States
ATTACH;FMTTYPE=image/jpeg:https://jobs.heritagechristianservices.org/wp-content/uploads/2023/11/6568d253ca2ea.jpg
END:VEVENT
BEGIN:VEVENT
DTSTART;TZID=America/New_York:20251202T110000
DTEND;TZID=America/New_York:20251202T150000
DTSTAMP:20260422T065329
CREATED:20250114T170101Z
LAST-MODIFIED:20250311T153703Z
UID:7893-1764673200-1764687600@jobs.heritagechristianservices.org
SUMMARY:Buffalo Walk-in Tuesdays
DESCRIPTION:Apply for a job at Heritage Christian Services Walk-in Tuesdays!
URL:https://jobs.heritagechristianservices.org/event/buffalo-walk-in-tuesdays-17/
LOCATION:Heritage Christian Services Regional Office\, 130 John Muir Dr.\, Suite 106\, Amherst\, NY\, 14228\, United States
ATTACH;FMTTYPE=image/png:https://jobs.heritagechristianservices.org/wp-content/uploads/2024/05/2.png
END:VEVENT
BEGIN:VEVENT
DTSTART;TZID=America/New_York:20251202T110000
DTEND;TZID=America/New_York:20251202T150000
DTSTAMP:20260422T065329
CREATED:20250318T152330Z
LAST-MODIFIED:20250318T152330Z
UID:8016-1764673200-1764687600@jobs.heritagechristianservices.org
SUMMARY:Rochester Walk-in Tuesdays
DESCRIPTION:Apply for a job at Heritage Christian Services Walk-in Tuesdays!
URL:https://jobs.heritagechristianservices.org/event/rochester-walk-in-tuesdays-60/
LOCATION:Heritage Christian Services Corporate Office\, 275 Kenneth Drive\, Suite 100\, Rochester\, NY\, 14623\, United States
ATTACH;FMTTYPE=image/jpeg:https://jobs.heritagechristianservices.org/wp-content/uploads/2023/11/6568d253ca2ea.jpg
END:VEVENT
BEGIN:VEVENT
DTSTART;TZID=America/New_York:20251209T110000
DTEND;TZID=America/New_York:20251209T150000
DTSTAMP:20260422T065329
CREATED:20250318T152425Z
LAST-MODIFIED:20250318T152425Z
UID:8018-1765278000-1765292400@jobs.heritagechristianservices.org
SUMMARY:Rochester Walk-in Tuesdays
DESCRIPTION:Apply for a job at Heritage Christian Services Walk-in Tuesdays!
URL:https://jobs.heritagechristianservices.org/event/rochester-walk-in-tuesdays-61/
LOCATION:Heritage Christian Services Corporate Office\, 275 Kenneth Drive\, Suite 100\, Rochester\, NY\, 14623\, United States
ATTACH;FMTTYPE=image/jpeg:https://jobs.heritagechristianservices.org/wp-content/uploads/2023/11/6568d253ca2ea.jpg
END:VEVENT
BEGIN:VEVENT
DTSTART;TZID=America/New_York:20251216T110000
DTEND;TZID=America/New_York:20251216T150000
DTSTAMP:20260422T065329
CREATED:20250318T152512Z
LAST-MODIFIED:20250318T152512Z
UID:8020-1765882800-1765897200@jobs.heritagechristianservices.org
SUMMARY:Rochester Walk-in Tuesdays
DESCRIPTION:Apply for a job at Heritage Christian Services Walk-in Tuesdays!
URL:https://jobs.heritagechristianservices.org/event/rochester-walk-in-tuesdays-62/
LOCATION:Heritage Christian Services Corporate Office\, 275 Kenneth Drive\, Suite 100\, Rochester\, NY\, 14623\, United States
ATTACH;FMTTYPE=image/jpeg:https://jobs.heritagechristianservices.org/wp-content/uploads/2023/11/6568d253ca2ea.jpg
END:VEVENT
BEGIN:VEVENT
DTSTART;TZID=America/New_York:20251222T103000
DTEND;TZID=America/New_York:20251222T133000
DTSTAMP:20260422T065329
CREATED:20251204T163450Z
LAST-MODIFIED:20251204T163450Z
UID:8539-1766399400-1766410200@jobs.heritagechristianservices.org
SUMMARY:Hiring Event – Webster Public Library
DESCRIPTION:
URL:https://jobs.heritagechristianservices.org/event/hiring-event-webster-public-library-17/
LOCATION:Webster Public Library\, 980 Ridge Road\, Webster\, NY\, 14580\, United States
ATTACH;FMTTYPE=image/jpeg:https://jobs.heritagechristianservices.org/wp-content/uploads/2018/08/webster-public-library-e1553881996554.jpg
END:VEVENT
BEGIN:VEVENT
DTSTART;TZID=America/New_York:20251223T110000
DTEND;TZID=America/New_York:20251223T150000
DTSTAMP:20260422T065329
CREATED:20250318T152555Z
LAST-MODIFIED:20250318T152555Z
UID:8022-1766487600-1766502000@jobs.heritagechristianservices.org
SUMMARY:Rochester Walk-in Tuesdays
DESCRIPTION:Apply for a job at Heritage Christian Services Walk-in Tuesdays!
URL:https://jobs.heritagechristianservices.org/event/rochester-walk-in-tuesdays-63/
LOCATION:Heritage Christian Services Corporate Office\, 275 Kenneth Drive\, Suite 100\, Rochester\, NY\, 14623\, United States
ATTACH;FMTTYPE=image/jpeg:https://jobs.heritagechristianservices.org/wp-content/uploads/2023/11/6568d253ca2ea.jpg
END:VEVENT
BEGIN:VEVENT
DTSTART;TZID=America/New_York:20251230T110000
DTEND;TZID=America/New_York:20251230T150000
DTSTAMP:20260422T065329
CREATED:20250318T152636Z
LAST-MODIFIED:20250318T152636Z
UID:8024-1767092400-1767106800@jobs.heritagechristianservices.org
SUMMARY:Rochester Walk-in Tuesdays
DESCRIPTION:Apply for a job at Heritage Christian Services Walk-in Tuesdays!
URL:https://jobs.heritagechristianservices.org/event/rochester-walk-in-tuesdays-64/
LOCATION:Heritage Christian Services Corporate Office\, 275 Kenneth Drive\, Suite 100\, Rochester\, NY\, 14623\, United States
ATTACH;FMTTYPE=image/jpeg:https://jobs.heritagechristianservices.org/wp-content/uploads/2023/11/6568d253ca2ea.jpg
END:VEVENT
BEGIN:VEVENT
DTSTART;TZID=America/New_York:20260106T110000
DTEND;TZID=America/New_York:20260106T150000
DTSTAMP:20260422T065329
CREATED:20251202T190821Z
LAST-MODIFIED:20251202T190821Z
UID:8477-1767697200-1767711600@jobs.heritagechristianservices.org
SUMMARY:Buffalo Walk-in Tuesdays
DESCRIPTION:Apply for a job at Heritage Christian Services Walk-in Tuesdays!
URL:https://jobs.heritagechristianservices.org/event/buffalo-walk-in-tuesdays-19/
LOCATION:Heritage Christian Services Regional Office\, 130 John Muir Dr.\, Suite 106\, Amherst\, NY\, 14228\, United States
ATTACH;FMTTYPE=image/png:https://jobs.heritagechristianservices.org/wp-content/uploads/2024/05/2.png
END:VEVENT
END:VCALENDAR