BEGIN:VCALENDAR
VERSION:2.0
PRODID:-//Heritage Christian Careers - ECPv6.15.20//NONSGML v1.0//EN
CALSCALE:GREGORIAN
METHOD:PUBLISH
X-ORIGINAL-URL:https://jobs.heritagechristianservices.org
X-WR-CALDESC:Events for Heritage Christian Careers
REFRESH-INTERVAL;VALUE=DURATION:PT1H
X-Robots-Tag:noindex
X-PUBLISHED-TTL:PT1H
BEGIN:VTIMEZONE
TZID:America/New_York
BEGIN:DAYLIGHT
TZOFFSETFROM:-0500
TZOFFSETTO:-0400
TZNAME:EDT
DTSTART:20230312T070000
END:DAYLIGHT
BEGIN:STANDARD
TZOFFSETFROM:-0400
TZOFFSETTO:-0500
TZNAME:EST
DTSTART:20231105T060000
END:STANDARD
BEGIN:DAYLIGHT
TZOFFSETFROM:-0500
TZOFFSETTO:-0400
TZNAME:EDT
DTSTART:20240310T070000
END:DAYLIGHT
BEGIN:STANDARD
TZOFFSETFROM:-0400
TZOFFSETTO:-0500
TZNAME:EST
DTSTART:20241103T060000
END:STANDARD
BEGIN:DAYLIGHT
TZOFFSETFROM:-0500
TZOFFSETTO:-0400
TZNAME:EDT
DTSTART:20250309T070000
END:DAYLIGHT
BEGIN:STANDARD
TZOFFSETFROM:-0400
TZOFFSETTO:-0500
TZNAME:EST
DTSTART:20251102T060000
END:STANDARD
BEGIN:DAYLIGHT
TZOFFSETFROM:-0500
TZOFFSETTO:-0400
TZNAME:EDT
DTSTART:20260308T070000
END:DAYLIGHT
BEGIN:STANDARD
TZOFFSETFROM:-0400
TZOFFSETTO:-0500
TZNAME:EST
DTSTART:20261101T060000
END:STANDARD
END:VTIMEZONE
BEGIN:VEVENT
DTSTART;TZID=America/New_York:20240927T100000
DTEND;TZID=America/New_York:20240927T133000
DTSTAMP:20260421T131422
CREATED:20240905T175930Z
LAST-MODIFIED:20240911T133739Z
UID:7734-1727431200-1727443800@jobs.heritagechristianservices.org
SUMMARY:Hiring Event for Direct Support Staff – David F Gantt Rec Center
DESCRIPTION:
URL:https://jobs.heritagechristianservices.org/event/hiring-direct-support-staff-for-community-habilitation-david-f-gantt-rec-center/
LOCATION:David F Gantt Recreation Center\, 700 North St\, Rochester\, NY\, 14605\, United States
END:VEVENT
BEGIN:VEVENT
DTSTART;TZID=America/New_York:20241001T120000
DTEND;TZID=America/New_York:20241001T160000
DTSTAMP:20260421T131422
CREATED:20240711T172840Z
LAST-MODIFIED:20240801T152946Z
UID:7317-1727784000-1727798400@jobs.heritagechristianservices.org
SUMMARY:Buffalo Walk-in Tuesdays
DESCRIPTION:Apply for a job at Heritage Christian Services Walk-in Tuesdays!
URL:https://jobs.heritagechristianservices.org/event/buffalo-walk-in-tuesdays-4/
LOCATION:Heritage Christian Services Regional Office\, 130 John Muir Dr.\, Suite 106\, Amherst\, NY\, 14228\, United States
ATTACH;FMTTYPE=image/png:https://jobs.heritagechristianservices.org/wp-content/uploads/2024/05/2.png
END:VEVENT
BEGIN:VEVENT
DTSTART;TZID=America/New_York:20241001T120000
DTEND;TZID=America/New_York:20241001T160000
DTSTAMP:20260421T131422
CREATED:20240918T180448Z
LAST-MODIFIED:20240918T180448Z
UID:7755-1727784000-1727798400@jobs.heritagechristianservices.org
SUMMARY:Rochester Walk-in Tuesdays
DESCRIPTION:Apply for a job at Heritage Christian Services Walk-in Tuesdays!
URL:https://jobs.heritagechristianservices.org/event/rochester-walk-in-tuesdays-12/
LOCATION:Heritage Christian Services Corporate Office\, 275 Kenneth Drive\, Suite 100\, Rochester\, NY\, 14623\, United States
END:VEVENT
BEGIN:VEVENT
DTSTART;TZID=America/New_York:20241008T120000
DTEND;TZID=America/New_York:20241008T160000
DTSTAMP:20260421T131422
CREATED:20240918T180536Z
LAST-MODIFIED:20240918T180536Z
UID:7757-1728388800-1728403200@jobs.heritagechristianservices.org
SUMMARY:Rochester Walk-in Tuesdays
DESCRIPTION:Apply for a job at Heritage Christian Services Walk-in Tuesdays!
URL:https://jobs.heritagechristianservices.org/event/rochester-walk-in-tuesdays-13/
LOCATION:Heritage Christian Services Corporate Office\, 275 Kenneth Drive\, Suite 100\, Rochester\, NY\, 14623\, United States
END:VEVENT
BEGIN:VEVENT
DTSTART;TZID=America/New_York:20241015T120000
DTEND;TZID=America/New_York:20241015T160000
DTSTAMP:20260421T131422
CREATED:20240918T180619Z
LAST-MODIFIED:20240918T180619Z
UID:7759-1728993600-1729008000@jobs.heritagechristianservices.org
SUMMARY:Rochester Walk-in Tuesdays
DESCRIPTION:Apply for a job at Heritage Christian Services Walk-in Tuesdays!
URL:https://jobs.heritagechristianservices.org/event/rochester-walk-in-tuesdays-14/
LOCATION:Heritage Christian Services Corporate Office\, 275 Kenneth Drive\, Suite 100\, Rochester\, NY\, 14623\, United States
END:VEVENT
BEGIN:VEVENT
DTSTART;TZID=America/New_York:20241018T100000
DTEND;TZID=America/New_York:20241018T140000
DTSTAMP:20260421T131422
CREATED:20241007T173714Z
LAST-MODIFIED:20241007T173839Z
UID:7772-1729245600-1729260000@jobs.heritagechristianservices.org
SUMMARY:Hiring Event – Gates Public Library
DESCRIPTION:
URL:https://jobs.heritagechristianservices.org/event/hiring-event-gates-public-library/
LOCATION:Irondequoit Public Library\, 1280 Titus Avenue\, Rochester\, NY\, 14617\, United States
ATTACH;FMTTYPE=image/jpeg:https://jobs.heritagechristianservices.org/wp-content/uploads/2021/11/Gates-Public-Library.jpg
END:VEVENT
BEGIN:VEVENT
DTSTART;TZID=America/New_York:20241022T120000
DTEND;TZID=America/New_York:20241022T160000
DTSTAMP:20260421T131422
CREATED:20240918T180706Z
LAST-MODIFIED:20240918T180706Z
UID:7761-1729598400-1729612800@jobs.heritagechristianservices.org
SUMMARY:Rochester Walk-in Tuesdays
DESCRIPTION:Apply for a job at Heritage Christian Services Walk-in Tuesdays!
URL:https://jobs.heritagechristianservices.org/event/rochester-walk-in-tuesdays-15/
LOCATION:Heritage Christian Services Corporate Office\, 275 Kenneth Drive\, Suite 100\, Rochester\, NY\, 14623\, United States
END:VEVENT
BEGIN:VEVENT
DTSTART;TZID=America/New_York:20241029T120000
DTEND;TZID=America/New_York:20241029T160000
DTSTAMP:20260421T131422
CREATED:20240918T180822Z
LAST-MODIFIED:20240918T180822Z
UID:7763-1730203200-1730217600@jobs.heritagechristianservices.org
SUMMARY:Rochester Walk-in Tuesdays
DESCRIPTION:Apply for a job at Heritage Christian Services Walk-in Tuesdays!
URL:https://jobs.heritagechristianservices.org/event/rochester-walk-in-tuesdays-16/
LOCATION:Heritage Christian Services Corporate Office\, 275 Kenneth Drive\, Suite 100\, Rochester\, NY\, 14623\, United States
END:VEVENT
BEGIN:VEVENT
DTSTART;TZID=America/New_York:20241105T120000
DTEND;TZID=America/New_York:20241105T160000
DTSTAMP:20260421T131422
CREATED:20240711T185744Z
LAST-MODIFIED:20240801T153948Z
UID:7320-1730808000-1730822400@jobs.heritagechristianservices.org
SUMMARY:Buffalo Walk-in Tuesdays
DESCRIPTION:Apply for a job at Heritage Christian Services Walk-in Tuesdays!
URL:https://jobs.heritagechristianservices.org/event/buffalo-walk-in-tuesdays-5/
LOCATION:Heritage Christian Services Regional Office\, 130 John Muir Dr.\, Suite 106\, Amherst\, NY\, 14228\, United States
ATTACH;FMTTYPE=image/png:https://jobs.heritagechristianservices.org/wp-content/uploads/2024/05/2.png
END:VEVENT
BEGIN:VEVENT
DTSTART;TZID=America/New_York:20241105T120000
DTEND;TZID=America/New_York:20241105T160000
DTSTAMP:20260421T131422
CREATED:20241016T134003Z
LAST-MODIFIED:20241016T134055Z
UID:7787-1730808000-1730822400@jobs.heritagechristianservices.org
SUMMARY:Rochester Walk-in Tuesdays
DESCRIPTION:Apply for a job at Heritage Christian Services Walk-in Tuesdays!
URL:https://jobs.heritagechristianservices.org/event/rochester-walk-in-tuesdays-17/
LOCATION:Heritage Christian Services Corporate Office\, 275 Kenneth Drive\, Suite 100\, Rochester\, NY\, 14623\, United States
ATTACH;FMTTYPE=image/jpeg:https://jobs.heritagechristianservices.org/wp-content/uploads/2023/11/6568d25645c85.jpg
END:VEVENT
BEGIN:VEVENT
DTSTART;TZID=America/New_York:20241109T090000
DTEND;TZID=America/New_York:20241109T130000
DTSTAMP:20260421T131422
CREATED:20231201T210110Z
LAST-MODIFIED:20240911T200807Z
UID:6976-1731142800-1731157200@jobs.heritagechristianservices.org
SUMMARY:Saturday Hiring Event
DESCRIPTION:
URL:https://jobs.heritagechristianservices.org/event/saturday-hiring-event-5/
LOCATION:Heritage Christian Services Corporate Office\, 275 Kenneth Drive\, Suite 100\, Rochester\, NY\, 14623\, United States
ATTACH;FMTTYPE=image/jpeg:https://jobs.heritagechristianservices.org/wp-content/uploads/2023/11/6568d261dec2f.jpg
END:VEVENT
BEGIN:VEVENT
DTSTART;TZID=America/New_York:20241112T120000
DTEND;TZID=America/New_York:20241112T160000
DTSTAMP:20260421T131422
CREATED:20241016T134317Z
LAST-MODIFIED:20241016T134317Z
UID:7789-1731412800-1731427200@jobs.heritagechristianservices.org
SUMMARY:Rochester Walk-in Tuesdays
DESCRIPTION:Apply for a job at Heritage Christian Services Walk-in Tuesdays!
URL:https://jobs.heritagechristianservices.org/event/rochester-walk-in-tuesdays-18/
LOCATION:Heritage Christian Services Corporate Office\, 275 Kenneth Drive\, Suite 100\, Rochester\, NY\, 14623\, United States
ATTACH;FMTTYPE=image/jpeg:https://jobs.heritagechristianservices.org/wp-content/uploads/2023/11/6568d253ca2ea.jpg
END:VEVENT
BEGIN:VEVENT
DTSTART;TZID=America/New_York:20241119T120000
DTEND;TZID=America/New_York:20241119T160000
DTSTAMP:20260421T131422
CREATED:20241016T203419Z
LAST-MODIFIED:20241016T203419Z
UID:7792-1732017600-1732032000@jobs.heritagechristianservices.org
SUMMARY:Rochester Walk-in Tuesdays
DESCRIPTION:Apply for a job at Heritage Christian Services Walk-in Tuesdays!
URL:https://jobs.heritagechristianservices.org/event/rochester-walk-in-tuesdays-19/
LOCATION:Heritage Christian Services Corporate Office\, 275 Kenneth Drive\, Suite 100\, Rochester\, NY\, 14623\, United States
ATTACH;FMTTYPE=image/jpeg:https://jobs.heritagechristianservices.org/wp-content/uploads/2023/11/6568d253ca2ea.jpg
END:VEVENT
BEGIN:VEVENT
DTSTART;TZID=America/New_York:20241122T103000
DTEND;TZID=America/New_York:20241122T140000
DTSTAMP:20260421T131422
CREATED:20240816T182414Z
LAST-MODIFIED:20241118T182720Z
UID:7728-1732271400-1732284000@jobs.heritagechristianservices.org
SUMMARY:Hiring Event – Irondequoit Public Library
DESCRIPTION:
URL:https://jobs.heritagechristianservices.org/event/hiring-direct-support-staff-irondequoit-public-library/
LOCATION:Irondequoit Public Library\, 1290 Titus Ave\, Rochester\, NY\, 14617\, United States
ATTACH;FMTTYPE=image/jpeg:https://jobs.heritagechristianservices.org/wp-content/uploads/2022/04/Irondequoit.jpg
END:VEVENT
BEGIN:VEVENT
DTSTART;TZID=America/New_York:20241126T120000
DTEND;TZID=America/New_York:20241126T160000
DTSTAMP:20260421T131422
CREATED:20241016T203512Z
LAST-MODIFIED:20241016T203512Z
UID:7794-1732622400-1732636800@jobs.heritagechristianservices.org
SUMMARY:Rochester Walk-in Tuesdays
DESCRIPTION:Apply for a job at Heritage Christian Services Walk-in Tuesdays!
URL:https://jobs.heritagechristianservices.org/event/rochester-walk-in-tuesdays-20/
LOCATION:Heritage Christian Services Corporate Office\, 275 Kenneth Drive\, Suite 100\, Rochester\, NY\, 14623\, United States
ATTACH;FMTTYPE=image/jpeg:https://jobs.heritagechristianservices.org/wp-content/uploads/2023/11/6568d253ca2ea.jpg
END:VEVENT
BEGIN:VEVENT
DTSTART;TZID=America/New_York:20241203T120000
DTEND;TZID=America/New_York:20241203T160000
DTSTAMP:20260421T131422
CREATED:20240711T190811Z
LAST-MODIFIED:20240801T154936Z
UID:7325-1733227200-1733241600@jobs.heritagechristianservices.org
SUMMARY:Buffalo Walk-in Tuesdays
DESCRIPTION:Apply for a job at Heritage Christian Services Walk-in Tuesdays
URL:https://jobs.heritagechristianservices.org/event/buffalo-walk-in-tuesdays-6/
LOCATION:Heritage Christian Services Regional Office\, 130 John Muir Dr.\, Suite 106\, Amherst\, NY\, 14228\, United States
ATTACH;FMTTYPE=image/png:https://jobs.heritagechristianservices.org/wp-content/uploads/2024/05/2.png
END:VEVENT
BEGIN:VEVENT
DTSTART;TZID=America/New_York:20241203T120000
DTEND;TZID=America/New_York:20241203T160000
DTSTAMP:20260421T131422
CREATED:20241016T203544Z
LAST-MODIFIED:20241016T203544Z
UID:7796-1733227200-1733241600@jobs.heritagechristianservices.org
SUMMARY:Rochester Walk-in Tuesdays
DESCRIPTION:Apply for a job at Heritage Christian Services Walk-in Tuesdays!
URL:https://jobs.heritagechristianservices.org/event/rochester-walk-in-tuesdays-21/
LOCATION:Heritage Christian Services Corporate Office\, 275 Kenneth Drive\, Suite 100\, Rochester\, NY\, 14623\, United States
ATTACH;FMTTYPE=image/jpeg:https://jobs.heritagechristianservices.org/wp-content/uploads/2023/11/6568d253ca2ea.jpg
END:VEVENT
BEGIN:VEVENT
DTSTART;TZID=America/New_York:20241210T120000
DTEND;TZID=America/New_York:20241210T160000
DTSTAMP:20260421T131422
CREATED:20241016T203618Z
LAST-MODIFIED:20241016T203618Z
UID:7798-1733832000-1733846400@jobs.heritagechristianservices.org
SUMMARY:Rochester Walk-in Tuesdays
DESCRIPTION:Apply for a job at Heritage Christian Services Walk-in Tuesdays!
URL:https://jobs.heritagechristianservices.org/event/rochester-walk-in-tuesdays-22/
LOCATION:Heritage Christian Services Corporate Office\, 275 Kenneth Drive\, Suite 100\, Rochester\, NY\, 14623\, United States
ATTACH;FMTTYPE=image/jpeg:https://jobs.heritagechristianservices.org/wp-content/uploads/2023/11/6568d253ca2ea.jpg
END:VEVENT
BEGIN:VEVENT
DTSTART;TZID=America/New_York:20241217T120000
DTEND;TZID=America/New_York:20241217T160000
DTSTAMP:20260421T131422
CREATED:20241016T203649Z
LAST-MODIFIED:20241016T203649Z
UID:7800-1734436800-1734451200@jobs.heritagechristianservices.org
SUMMARY:Rochester Walk-in Tuesdays
DESCRIPTION:Apply for a job at Heritage Christian Services Walk-in Tuesdays!
URL:https://jobs.heritagechristianservices.org/event/rochester-walk-in-tuesdays-23/
LOCATION:Heritage Christian Services Corporate Office\, 275 Kenneth Drive\, Suite 100\, Rochester\, NY\, 14623\, United States
ATTACH;FMTTYPE=image/jpeg:https://jobs.heritagechristianservices.org/wp-content/uploads/2023/11/6568d253ca2ea.jpg
END:VEVENT
BEGIN:VEVENT
DTSTART;TZID=America/New_York:20241230T103000
DTEND;TZID=America/New_York:20241230T133000
DTSTAMP:20260421T131422
CREATED:20241203T152348Z
LAST-MODIFIED:20241203T152348Z
UID:7860-1735554600-1735565400@jobs.heritagechristianservices.org
SUMMARY:Hiring Event – Webster Public Library
DESCRIPTION:
URL:https://jobs.heritagechristianservices.org/event/hiring-event-webster-public-library-2/
LOCATION:Webster Public Library\, 980 Ridge Road\, Webster\, NY\, 14580\, United States
ATTACH;FMTTYPE=image/jpeg:https://jobs.heritagechristianservices.org/wp-content/uploads/2018/08/webster-public-library-e1553881996554.jpg
END:VEVENT
BEGIN:VEVENT
DTSTART;TZID=America/New_York:20250107T110000
DTEND;TZID=America/New_York:20250107T150000
DTSTAMP:20260421T131422
CREATED:20241016T132023Z
LAST-MODIFIED:20241119T140934Z
UID:7775-1736247600-1736262000@jobs.heritagechristianservices.org
SUMMARY:Buffalo Walk-in Tuesdays
DESCRIPTION:Apply for a job at Heritage Christian Services Walk-in Tuesdays!
URL:https://jobs.heritagechristianservices.org/event/buffalo-walk-in-tuesdays-7/
LOCATION:Heritage Christian Services Regional Office\, 130 John Muir Dr.\, Suite 106\, Amherst\, NY\, 14228\, United States
ATTACH;FMTTYPE=image/png:https://jobs.heritagechristianservices.org/wp-content/uploads/2024/05/2.png
END:VEVENT
BEGIN:VEVENT
DTSTART;TZID=America/New_York:20250107T110000
DTEND;TZID=America/New_York:20250107T150000
DTSTAMP:20260421T131422
CREATED:20241016T203834Z
LAST-MODIFIED:20241119T135759Z
UID:7802-1736247600-1736262000@jobs.heritagechristianservices.org
SUMMARY:Rochester Walk-in Tuesdays
DESCRIPTION:Apply for a job at Heritage Christian Services Walk-in Tuesdays!
URL:https://jobs.heritagechristianservices.org/event/rochester-walk-in-tuesdays-24/
LOCATION:Heritage Christian Services Corporate Office\, 275 Kenneth Drive\, Suite 100\, Rochester\, NY\, 14623\, United States
ATTACH;FMTTYPE=image/jpeg:https://jobs.heritagechristianservices.org/wp-content/uploads/2023/11/6568d253ca2ea.jpg
END:VEVENT
BEGIN:VEVENT
DTSTART;TZID=America/New_York:20250114T110000
DTEND;TZID=America/New_York:20250114T150000
DTSTAMP:20260421T131422
CREATED:20241016T203905Z
LAST-MODIFIED:20241119T135935Z
UID:7804-1736852400-1736866800@jobs.heritagechristianservices.org
SUMMARY:Rochester Walk-in Tuesdays
DESCRIPTION:Apply for a job at Heritage Christian Services Walk-in Tuesdays!
URL:https://jobs.heritagechristianservices.org/event/rochester-walk-in-tuesdays-25/
LOCATION:Heritage Christian Services Corporate Office\, 275 Kenneth Drive\, Suite 100\, Rochester\, NY\, 14623\, United States
ATTACH;FMTTYPE=image/jpeg:https://jobs.heritagechristianservices.org/wp-content/uploads/2023/11/6568d253ca2ea.jpg
END:VEVENT
BEGIN:VEVENT
DTSTART;TZID=America/New_York:20250121T110000
DTEND;TZID=America/New_York:20250121T150000
DTSTAMP:20260421T131422
CREATED:20241016T203932Z
LAST-MODIFIED:20241119T135628Z
UID:7806-1737457200-1737471600@jobs.heritagechristianservices.org
SUMMARY:Rochester Walk-in Tuesdays
DESCRIPTION:Apply for a job at Heritage Christian Services Walk-in Tuesdays!
URL:https://jobs.heritagechristianservices.org/event/rochester-walk-in-tuesdays-26/
LOCATION:Heritage Christian Services Corporate Office\, 275 Kenneth Drive\, Suite 100\, Rochester\, NY\, 14623\, United States
ATTACH;FMTTYPE=image/jpeg:https://jobs.heritagechristianservices.org/wp-content/uploads/2023/11/6568d253ca2ea.jpg
END:VEVENT
BEGIN:VEVENT
DTSTART;TZID=America/New_York:20250128T110000
DTEND;TZID=America/New_York:20250128T150000
DTSTAMP:20260421T131422
CREATED:20241016T204003Z
LAST-MODIFIED:20241119T140157Z
UID:7808-1738062000-1738076400@jobs.heritagechristianservices.org
SUMMARY:Rochester Walk-in Tuesdays
DESCRIPTION:Apply for a job at Heritage Christian Services Walk-in Tuesdays!
URL:https://jobs.heritagechristianservices.org/event/rochester-walk-in-tuesdays-27/
LOCATION:Heritage Christian Services Corporate Office\, 275 Kenneth Drive\, Suite 100\, Rochester\, NY\, 14623\, United States
ATTACH;FMTTYPE=image/jpeg:https://jobs.heritagechristianservices.org/wp-content/uploads/2023/11/6568d253ca2ea.jpg
END:VEVENT
BEGIN:VEVENT
DTSTART;TZID=America/New_York:20250129T123000
DTEND;TZID=America/New_York:20250129T153000
DTSTAMP:20260421T131422
CREATED:20250107T185108Z
LAST-MODIFIED:20250115T185736Z
UID:7876-1738153800-1738164600@jobs.heritagechristianservices.org
SUMMARY:Hiring Event – Irondequoit Public Library
DESCRIPTION:
URL:https://jobs.heritagechristianservices.org/event/hiring-event-irondequoit-public-library/
LOCATION:Irondequoit Public Library\, 1290 Titus Ave\, Rochester\, NY\, 14617\, United States
ATTACH;FMTTYPE=image/jpeg:https://jobs.heritagechristianservices.org/wp-content/uploads/2022/04/Irondequoit.jpg
END:VEVENT
BEGIN:VEVENT
DTSTART;TZID=America/New_York:20250130T110000
DTEND;TZID=America/New_York:20250130T140000
DTSTAMP:20260421T131422
CREATED:20250107T185546Z
LAST-MODIFIED:20250107T185546Z
UID:7878-1738234800-1738245600@jobs.heritagechristianservices.org
SUMMARY:Hiring Direct Support Staff for Community Habilitation – Webster Public Library
DESCRIPTION:
URL:https://jobs.heritagechristianservices.org/event/hiring-direct-support-staff-for-community-habilitation-webster-public-library-3/
LOCATION:Webster Public Library\, 980 Ridge Road\, Webster\, NY\, 14580\, United States
ATTACH;FMTTYPE=image/jpeg:https://jobs.heritagechristianservices.org/wp-content/uploads/2018/08/webster-public-library-e1553881996554.jpg
END:VEVENT
BEGIN:VEVENT
DTSTART;TZID=America/New_York:20250204T110000
DTEND;TZID=America/New_York:20250204T150000
DTSTAMP:20260421T131422
CREATED:20241016T132101Z
LAST-MODIFIED:20241119T140801Z
UID:7777-1738666800-1738681200@jobs.heritagechristianservices.org
SUMMARY:Buffalo Walk-in Tuesdays
DESCRIPTION:Apply for a job at Heritage Christian Services Walk-in Tuesdays!
URL:https://jobs.heritagechristianservices.org/event/buffalo-walk-in-tuesdays-8/
LOCATION:Heritage Christian Services Regional Office\, 130 John Muir Dr.\, Suite 106\, Amherst\, NY\, 14228\, United States
ATTACH;FMTTYPE=image/png:https://jobs.heritagechristianservices.org/wp-content/uploads/2024/05/2.png
END:VEVENT
BEGIN:VEVENT
DTSTART;TZID=America/New_York:20250204T110000
DTEND;TZID=America/New_York:20250204T150000
DTSTAMP:20260421T131422
CREATED:20241016T204037Z
LAST-MODIFIED:20241119T140508Z
UID:7810-1738666800-1738681200@jobs.heritagechristianservices.org
SUMMARY:Rochester Walk-in Tuesdays
DESCRIPTION:Apply for a job at Heritage Christian Services Walk-in Tuesdays!
URL:https://jobs.heritagechristianservices.org/event/rochester-walk-in-tuesdays-28/
LOCATION:Heritage Christian Services Corporate Office\, 275 Kenneth Drive\, Suite 100\, Rochester\, NY\, 14623\, United States
ATTACH;FMTTYPE=image/jpeg:https://jobs.heritagechristianservices.org/wp-content/uploads/2023/11/6568d253ca2ea.jpg
END:VEVENT
BEGIN:VEVENT
DTSTART;TZID=America/New_York:20250211T110000
DTEND;TZID=America/New_York:20250211T150000
DTSTAMP:20260421T131422
CREATED:20241016T204106Z
LAST-MODIFIED:20241119T140656Z
UID:7812-1739271600-1739286000@jobs.heritagechristianservices.org
SUMMARY:Rochester Walk-in Tuesdays
DESCRIPTION:Apply for a job at Heritage Christian Services Walk-in Tuesdays!
URL:https://jobs.heritagechristianservices.org/event/rochester-walk-in-tuesdays-29/
LOCATION:Heritage Christian Services Corporate Office\, 275 Kenneth Drive\, Suite 100\, Rochester\, NY\, 14623\, United States
ATTACH;FMTTYPE=image/jpeg:https://jobs.heritagechristianservices.org/wp-content/uploads/2023/11/6568d253ca2ea.jpg
END:VEVENT
END:VCALENDAR