BEGIN:VCALENDAR
VERSION:2.0
PRODID:-//Heritage Christian Careers - ECPv6.15.20//NONSGML v1.0//EN
CALSCALE:GREGORIAN
METHOD:PUBLISH
X-WR-CALNAME:Heritage Christian Careers
X-ORIGINAL-URL:https://jobs.heritagechristianservices.org
X-WR-CALDESC:Events for Heritage Christian Careers
REFRESH-INTERVAL;VALUE=DURATION:PT1H
X-Robots-Tag:noindex
X-PUBLISHED-TTL:PT1H
BEGIN:VTIMEZONE
TZID:America/New_York
BEGIN:DAYLIGHT
TZOFFSETFROM:-0500
TZOFFSETTO:-0400
TZNAME:EDT
DTSTART:20250309T070000
END:DAYLIGHT
BEGIN:STANDARD
TZOFFSETFROM:-0400
TZOFFSETTO:-0500
TZNAME:EST
DTSTART:20251102T060000
END:STANDARD
BEGIN:DAYLIGHT
TZOFFSETFROM:-0500
TZOFFSETTO:-0400
TZNAME:EDT
DTSTART:20260308T070000
END:DAYLIGHT
BEGIN:STANDARD
TZOFFSETFROM:-0400
TZOFFSETTO:-0500
TZNAME:EST
DTSTART:20261101T060000
END:STANDARD
BEGIN:DAYLIGHT
TZOFFSETFROM:-0500
TZOFFSETTO:-0400
TZNAME:EDT
DTSTART:20270314T070000
END:DAYLIGHT
BEGIN:STANDARD
TZOFFSETFROM:-0400
TZOFFSETTO:-0500
TZNAME:EST
DTSTART:20271107T060000
END:STANDARD
END:VTIMEZONE
BEGIN:VEVENT
DTSTART;TZID=America/New_York:20261022T110000
DTEND;TZID=America/New_York:20261022T180000
DTSTAMP:20260421T180731
CREATED:20251203T160919Z
LAST-MODIFIED:20251203T160919Z
UID:8499-1792666800-1792692000@jobs.heritagechristianservices.org
SUMMARY:Rochester Extended Hours Walk-In Hiring Event
DESCRIPTION:Apply for a job at Heritage Christian Services!
URL:https://jobs.heritagechristianservices.org/event/rochester-extended-hours-walk-in-hiring-event-7/
LOCATION:Heritage Christian Services Corporate Office\, 275 Kenneth Drive\, Suite 100\, Rochester\, NY\, 14623\, United States
ATTACH;FMTTYPE=image/png:https://jobs.heritagechristianservices.org/wp-content/uploads/2025/03/Walk-In-Tuesdays-for-events-Rochester.png
END:VEVENT
BEGIN:VEVENT
DTSTART;TZID=America/New_York:20261114T090000
DTEND;TZID=America/New_York:20261114T130000
DTSTAMP:20260421T180731
CREATED:20251203T160203Z
LAST-MODIFIED:20251203T160203Z
UID:8489-1794646800-1794661200@jobs.heritagechristianservices.org
SUMMARY:Saturday Hiring Event
DESCRIPTION:
URL:https://jobs.heritagechristianservices.org/event/saturday-hiring-event-15/
LOCATION:Heritage Christian Services Corporate Office\, 275 Kenneth Drive\, Suite 100\, Rochester\, NY\, 14623\, United States
ATTACH;FMTTYPE=image/jpeg:https://jobs.heritagechristianservices.org/wp-content/uploads/2023/11/6568d261dec2f.jpg
END:VEVENT
END:VCALENDAR