BEGIN:VCALENDAR
VERSION:2.0
PRODID:-//Heritage Christian Careers - ECPv6.15.20//NONSGML v1.0//EN
CALSCALE:GREGORIAN
METHOD:PUBLISH
X-WR-CALNAME:Heritage Christian Careers
X-ORIGINAL-URL:https://jobs.heritagechristianservices.org
X-WR-CALDESC:Events for Heritage Christian Careers
REFRESH-INTERVAL;VALUE=DURATION:PT1H
X-Robots-Tag:noindex
X-PUBLISHED-TTL:PT1H
BEGIN:VTIMEZONE
TZID:America/New_York
BEGIN:DAYLIGHT
TZOFFSETFROM:-0500
TZOFFSETTO:-0400
TZNAME:EDT
DTSTART:20230312T070000
END:DAYLIGHT
BEGIN:STANDARD
TZOFFSETFROM:-0400
TZOFFSETTO:-0500
TZNAME:EST
DTSTART:20231105T060000
END:STANDARD
BEGIN:DAYLIGHT
TZOFFSETFROM:-0500
TZOFFSETTO:-0400
TZNAME:EDT
DTSTART:20240310T070000
END:DAYLIGHT
BEGIN:STANDARD
TZOFFSETFROM:-0400
TZOFFSETTO:-0500
TZNAME:EST
DTSTART:20241103T060000
END:STANDARD
BEGIN:DAYLIGHT
TZOFFSETFROM:-0500
TZOFFSETTO:-0400
TZNAME:EDT
DTSTART:20250309T070000
END:DAYLIGHT
BEGIN:STANDARD
TZOFFSETFROM:-0400
TZOFFSETTO:-0500
TZNAME:EST
DTSTART:20251102T060000
END:STANDARD
END:VTIMEZONE
BEGIN:VEVENT
DTSTART;TZID=America/New_York:20240921T090000
DTEND;TZID=America/New_York:20240921T130000
DTSTAMP:20260421T194240
CREATED:20231201T205953Z
LAST-MODIFIED:20240911T202128Z
UID:6974-1726909200-1726923600@jobs.heritagechristianservices.org
SUMMARY:Saturday Hiring Event
DESCRIPTION:
URL:https://jobs.heritagechristianservices.org/event/saturday-hiring-event-4/
LOCATION:Heritage Christian Services Corporate Office\, 275 Kenneth Drive\, Suite 100\, Rochester\, NY\, 14623\, United States
ATTACH;FMTTYPE=image/jpeg:https://jobs.heritagechristianservices.org/wp-content/uploads/2023/11/6568d25fe8c00.jpg
END:VEVENT
BEGIN:VEVENT
DTSTART;TZID=America/New_York:20240917T120000
DTEND;TZID=America/New_York:20240917T160000
DTSTAMP:20260421T194240
CREATED:20240918T175929Z
LAST-MODIFIED:20240918T175929Z
UID:7750-1726574400-1726588800@jobs.heritagechristianservices.org
SUMMARY:Rochester Walk-in Tuesdays
DESCRIPTION:Apply for a job at Heritage Christian Services Walk-in Tuesdays!https://nam02.safelinks.protection.outlook.com/?url=https%3A%2F%2Fcareers-heritagechristianservices.icims.com%2Fjobs%2Fsearch%3Fss%3D1%26searchLocation%3D12781-12816-Rochester%2Band%2Bsurrounding%2Bareas%26mobile%3Dfalse%26width%3D1100%26height%3D500%26bga%3Dtrue%26needsRedirect%3Dfalse%26jan1offset%3D-300%26jun1offset%3D-240%26_ga%3D2.11567924.1685770578.1710772896-1121911756.1671484339&data=05%7C02%7Cjegoosey%40HeritageChristianServices.org%7Cc5a203f66a2645a6e51a08dc4d98f951%7C3c53445226c14687bd2b4b8e6bf6b40e%7C0%7C0%7C638470566620089710%7CUnknown%7CTWFpbGZsb3d8eyJWIjoiMC4wLjAwMDAiLCJQIjoiV2luMzIiLCJBTiI6Ik1haWwiLCJXVCI6Mn0%3D%7C0%7C%7C%7C&sdata=wE3upuyNM4N3k%2Biocy78VWSq1x5c3IRIQrZOx1vrifE%3D&reserved=0
URL:https://jobs.heritagechristianservices.org/event/rochester-walk-in-tuesdays-10/
LOCATION:Heritage Christian Services Corporate Office\, 275 Kenneth Drive\, Suite 100\, Rochester\, NY\, 14623\, United States
END:VEVENT
BEGIN:VEVENT
DTSTART;TZID=America/New_York:20240903T120000
DTEND;TZID=America/New_York:20240903T160000
DTSTAMP:20260421T194240
CREATED:20240711T171429Z
LAST-MODIFIED:20240801T152840Z
UID:7314-1725364800-1725379200@jobs.heritagechristianservices.org
SUMMARY:Buffalo Walk-in Tuesdays
DESCRIPTION:Apply for a job at Heritage Christian Services Walk-in Tuesdays!
URL:https://jobs.heritagechristianservices.org/event/buffalo-walk-in-tuesdays-3/
LOCATION:Heritage Christian Services Regional Office\, 130 John Muir Dr.\, Suite 106\, Amherst\, NY\, 14228\, United States
ATTACH;FMTTYPE=image/png:https://jobs.heritagechristianservices.org/wp-content/uploads/2024/05/1.png
END:VEVENT
BEGIN:VEVENT
DTSTART;TZID=America/New_York:20240823T103000
DTEND;TZID=America/New_York:20240823T140000
DTSTAMP:20260421T194240
CREATED:20240816T174820Z
LAST-MODIFIED:20240816T175329Z
UID:7724-1724409000-1724421600@jobs.heritagechristianservices.org
SUMMARY:Hiring Event – Gates Public Library
DESCRIPTION:
URL:https://jobs.heritagechristianservices.org/event/hiring-direct-support-staff-for-community-habilitation-gates-public-library/
LOCATION:Irondequoit Public Library\, 1280 Titus Avenue\, Rochester\, NY\, 14617\, United States
ATTACH;FMTTYPE=image/jpeg:https://jobs.heritagechristianservices.org/wp-content/uploads/2021/11/Gates-Public-Library.jpg
END:VEVENT
BEGIN:VEVENT
DTSTART;TZID=America/New_York:20240820T120000
DTEND;TZID=America/New_York:20240820T160000
DTSTAMP:20260421T194240
CREATED:20240523T152652Z
LAST-MODIFIED:20240523T152652Z
UID:7277-1724155200-1724169600@jobs.heritagechristianservices.org
SUMMARY:Rochester Walk-in Tuesdays
DESCRIPTION:Apply for a job at Heritage Christian Services Walk-in Tuesdays!
URL:https://jobs.heritagechristianservices.org/event/rochester-walk-in-tuesdays-8/
LOCATION:Heritage Christian Services Corporate Office\, 275 Kenneth Drive\, Suite 100\, Rochester\, NY\, 14623\, United States
ATTACH;FMTTYPE=image/png:https://jobs.heritagechristianservices.org/wp-content/uploads/2023/01/Walk-in-Tuesdays-2-3.png
END:VEVENT
BEGIN:VEVENT
DTSTART;TZID=America/New_York:20240813T120000
DTEND;TZID=America/New_York:20240813T160000
DTSTAMP:20260421T194240
CREATED:20240523T151656Z
LAST-MODIFIED:20240523T151729Z
UID:7274-1723550400-1723564800@jobs.heritagechristianservices.org
SUMMARY:Rochester Walk-in Tuesdays
DESCRIPTION:Apply for a job at Heritage Christian Services Walk-in Tuesdays!
URL:https://jobs.heritagechristianservices.org/event/rochester-walk-in-tuesdays-7/
LOCATION:Heritage Christian Services Corporate Office\, 275 Kenneth Drive\, Suite 100\, Rochester\, NY\, 14623\, United States
ATTACH;FMTTYPE=image/png:https://jobs.heritagechristianservices.org/wp-content/uploads/2023/06/Walk-In-Tuesdays-for-events-1.png
END:VEVENT
BEGIN:VEVENT
DTSTART;TZID=America/New_York:20240806T120000
DTEND;TZID=America/New_York:20240806T160000
DTSTAMP:20260421T194240
CREATED:20240523T151417Z
LAST-MODIFIED:20240523T151417Z
UID:7272-1722945600-1722960000@jobs.heritagechristianservices.org
SUMMARY:Buffalo Walk-in Tuesdays
DESCRIPTION:Apply for a job at Heritage Christian Services Walk-in Tuesdays!
URL:https://jobs.heritagechristianservices.org/event/buffalo-walk-in-tuesdays-2/
LOCATION:Heritage Christian Services Regional Office\, 130 John Muir Dr.\, Suite 106\, Amherst\, NY\, 14228\, United States
ATTACH;FMTTYPE=image/png:https://jobs.heritagechristianservices.org/wp-content/uploads/2024/05/2.png
END:VEVENT
BEGIN:VEVENT
DTSTART;TZID=America/New_York:20240806T120000
DTEND;TZID=America/New_York:20240806T160000
DTSTAMP:20260421T194240
CREATED:20240523T151156Z
LAST-MODIFIED:20240523T151156Z
UID:7270-1722945600-1722960000@jobs.heritagechristianservices.org
SUMMARY:Rochester Walk-in Tuesdays
DESCRIPTION:
URL:https://jobs.heritagechristianservices.org/event/rochester-walk-in-tuesdays-6/
LOCATION:Heritage Christian Services Corporate Office\, 275 Kenneth Drive\, Suite 100\, Rochester\, NY\, 14623\, United States
ATTACH;FMTTYPE=image/png:https://jobs.heritagechristianservices.org/wp-content/uploads/2023/01/Walk-in-Tuesdays-2-1.png
END:VEVENT
BEGIN:VEVENT
DTSTART;TZID=America/New_York:20240730T120000
DTEND;TZID=America/New_York:20240730T160000
DTSTAMP:20260421T194240
CREATED:20240522T173757Z
LAST-MODIFIED:20240523T141744Z
UID:7268-1722340800-1722355200@jobs.heritagechristianservices.org
SUMMARY:Rochester Walk-in Tuesdays
DESCRIPTION:Apply for a job at Heritage Christian Services Walk-in Tuesdays!
URL:https://jobs.heritagechristianservices.org/event/rochester-walk-in-tuesdays-5/
LOCATION:Heritage Christian Services Corporate Office\, 275 Kenneth Drive\, Suite 100\, Rochester\, NY\, 14623\, United States
ATTACH;FMTTYPE=image/png:https://jobs.heritagechristianservices.org/wp-content/uploads/2023/06/Walk-In-Tuesdays-for-events.png
END:VEVENT
BEGIN:VEVENT
DTSTART;TZID=America/New_York:20240729T103000
DTEND;TZID=America/New_York:20240729T140000
DTSTAMP:20260421T194240
CREATED:20240709T181908Z
LAST-MODIFIED:20240709T181908Z
UID:7307-1722249000-1722261600@jobs.heritagechristianservices.org
SUMMARY:Hiring Event - Irondequoit Library
DESCRIPTION:
URL:https://jobs.heritagechristianservices.org/event/hiring-event-irondequoit-library-3/
LOCATION:Irondequoit Public Library\, 1290 Titus Ave\, Rochester\, NY\, 14617\, United States
ATTACH;FMTTYPE=image/jpeg:https://jobs.heritagechristianservices.org/wp-content/uploads/2022/04/Irondequoit.jpg
END:VEVENT
BEGIN:VEVENT
DTSTART;TZID=America/New_York:20240726T130000
DTEND;TZID=America/New_York:20240726T160000
DTSTAMP:20260421T194240
CREATED:20240709T135750Z
LAST-MODIFIED:20240709T135750Z
UID:7304-1721998800-1722009600@jobs.heritagechristianservices.org
SUMMARY:Hiring Direct Support Staff for Community Habilitation – Webster Public Library
DESCRIPTION:
URL:https://jobs.heritagechristianservices.org/event/hiring-direct-support-staff-for-community-habilitation-webster-public-library/
LOCATION:Webster Public Library\, 980 Ridge Road\, Webster\, NY\, 14580\, United States
ATTACH;FMTTYPE=image/jpeg:https://jobs.heritagechristianservices.org/wp-content/uploads/2018/08/webster-public-library-e1553881996554.jpg
END:VEVENT
BEGIN:VEVENT
DTSTART;TZID=America/New_York:20240723T120000
DTEND;TZID=America/New_York:20240723T160000
DTSTAMP:20260421T194240
CREATED:20240520T172551Z
LAST-MODIFIED:20240912T125023Z
UID:7262-1721736000-1721750400@jobs.heritagechristianservices.org
SUMMARY:Rochester Walk-in Tuesdays
DESCRIPTION:Apply for a job at Heritage Christian Services Walk-in Tuesdays!
URL:https://jobs.heritagechristianservices.org/event/rochester-walk-in-tuesdays-4/
LOCATION:Heritage Christian Services Corporate Office\, 275 Kenneth Drive\, Suite 100\, Rochester\, NY\, 14623\, United States
ATTACH;FMTTYPE=image/png:https://jobs.heritagechristianservices.org/wp-content/uploads/2023/01/Walk-in-Tuesdays-2-1.png
END:VEVENT
BEGIN:VEVENT
DTSTART;TZID=America/New_York:20240716T120000
DTEND;TZID=America/New_York:20240716T160000
DTSTAMP:20260421T194240
CREATED:20240520T172225Z
LAST-MODIFIED:20240911T201035Z
UID:7260-1721131200-1721145600@jobs.heritagechristianservices.org
SUMMARY:Rochester Walk-in Tuesdays
DESCRIPTION:Apply for a job at Heritage Christian Services Walk-in Tuesdays!
URL:https://jobs.heritagechristianservices.org/event/rochester-walk-in-tuesdays-3/
LOCATION:Heritage Christian Services Corporate Office\, 275 Kenneth Drive\, Suite 100\, Rochester\, NY\, 14623\, United States
ATTACH;FMTTYPE=image/png:https://jobs.heritagechristianservices.org/wp-content/uploads/2023/01/Walk-in-Tuesdays-2-3.png
END:VEVENT
BEGIN:VEVENT
DTSTART;TZID=America/New_York:20240709T120000
DTEND;TZID=America/New_York:20240709T160000
DTSTAMP:20260421T194240
CREATED:20240520T171605Z
LAST-MODIFIED:20240911T202248Z
UID:7258-1720526400-1720540800@jobs.heritagechristianservices.org
SUMMARY:Rochester Walk-in Tuesdays
DESCRIPTION:Apply for a job at Heritage Christian Services Walk-in Tuesdays!
URL:https://jobs.heritagechristianservices.org/event/rochester-walk-in-tuesdays-2/
LOCATION:Heritage Christian Services Corporate Office\, 275 Kenneth Drive\, Suite 100\, Rochester\, NY\, 14623\, United States
ATTACH;FMTTYPE=image/png:https://jobs.heritagechristianservices.org/wp-content/uploads/2023/01/Walk-in-Tuesdays-2-2.png
END:VEVENT
BEGIN:VEVENT
DTSTART;TZID=America/New_York:20240702T120000
DTEND;TZID=America/New_York:20240702T160000
DTSTAMP:20260421T194240
CREATED:20240522T173412Z
LAST-MODIFIED:20240618T145954Z
UID:7264-1719921600-1719936000@jobs.heritagechristianservices.org
SUMMARY:Buffalo Walk-in Tuesdays
DESCRIPTION:Apply for a job at Heritage Christian Services Walk-in Tuesdays!
URL:https://jobs.heritagechristianservices.org/event/buffalo-walk-in-tuesdays/
LOCATION:Heritage Christian Services Regional Office\, 130 John Muir Dr.\, Suite 106\, Amherst\, NY\, 14228\, United States
ATTACH;FMTTYPE=image/png:https://jobs.heritagechristianservices.org/wp-content/uploads/2024/05/1.png
END:VEVENT
BEGIN:VEVENT
DTSTART;TZID=America/New_York:20240702T120000
DTEND;TZID=America/New_York:20240702T160000
DTSTAMP:20260421T194240
CREATED:20240520T143343Z
LAST-MODIFIED:20240911T195742Z
UID:7253-1719921600-1719936000@jobs.heritagechristianservices.org
SUMMARY:Rochester Walk-in Tuesdays
DESCRIPTION:Apply for a job at Heritage Christian Services Walk-in Tuesdays!
URL:https://jobs.heritagechristianservices.org/event/rochester-walk-in-tuesdays/
LOCATION:Heritage Christian Services Corporate Office\, 275 Kenneth Drive\, Suite 100\, Rochester\, NY\, 14623\, United States
ATTACH;FMTTYPE=image/png:https://jobs.heritagechristianservices.org/wp-content/uploads/2023/06/Walk-In-Tuesdays-for-events.png
END:VEVENT
BEGIN:VEVENT
DTSTART;TZID=America/New_York:20240628T103000
DTEND;TZID=America/New_York:20240628T140000
DTSTAMP:20260421T194240
CREATED:20240611T152102Z
LAST-MODIFIED:20240611T152102Z
UID:7295-1719570600-1719583200@jobs.heritagechristianservices.org
SUMMARY:Hiring Event - Webster Public Library
DESCRIPTION:
URL:https://jobs.heritagechristianservices.org/event/hiring-event-webster-public-library/
LOCATION:Webster Public Library\, 980 Ridge Road\, Webster\, NY\, 14580\, United States
ATTACH;FMTTYPE=image/jpeg:https://jobs.heritagechristianservices.org/wp-content/uploads/2018/08/webster-public-library-e1553881996554.jpg
END:VEVENT
BEGIN:VEVENT
DTSTART;TZID=America/New_York:20240627T110000
DTEND;TZID=America/New_York:20240627T140000
DTSTAMP:20260421T194240
CREATED:20240611T151640Z
LAST-MODIFIED:20240619T122907Z
UID:7293-1719486000-1719496800@jobs.heritagechristianservices.org
SUMMARY:Hiring Direct Support Staff for Community Habilitation – HCS Corporate Office
DESCRIPTION:
URL:https://jobs.heritagechristianservices.org/event/hiring-direct-support-staff-for-community-habilitation-at-hcs-corporate/
LOCATION:Heritage Christian Services Corporate Office\, 275 Kenneth Drive\, Suite 100\, Rochester\, NY\, 14623\, United States
END:VEVENT
BEGIN:VEVENT
DTSTART;TZID=America/New_York:20240625T120000
DTEND;TZID=America/New_York:20240625T160000
DTSTAMP:20260421T194240
CREATED:20231201T194135Z
LAST-MODIFIED:20240911T194507Z
UID:6925-1719316800-1719331200@jobs.heritagechristianservices.org
SUMMARY:Rochester Walk-in Tuesdays
DESCRIPTION:
URL:https://jobs.heritagechristianservices.org/event/walk-in-tuesdays-64/
LOCATION:Heritage Christian Services Corporate Office\, 275 Kenneth Drive\, Suite 100\, Rochester\, NY\, 14623\, United States
ATTACH;FMTTYPE=image/jpeg:https://jobs.heritagechristianservices.org/wp-content/uploads/2023/11/6568d25a19c78.jpg
END:VEVENT
BEGIN:VEVENT
DTSTART;TZID=America/New_York:20240618T120000
DTEND;TZID=America/New_York:20240618T160000
DTSTAMP:20260421T194240
CREATED:20231201T194004Z
LAST-MODIFIED:20240911T195344Z
UID:6923-1718712000-1718726400@jobs.heritagechristianservices.org
SUMMARY:Rochester Walk-in Tuesdays
DESCRIPTION:
URL:https://jobs.heritagechristianservices.org/event/walk-in-tuesdays-63/
LOCATION:Heritage Christian Services Corporate Office\, 275 Kenneth Drive\, Suite 100\, Rochester\, NY\, 14623\, United States
ATTACH;FMTTYPE=image/jpeg:https://jobs.heritagechristianservices.org/wp-content/uploads/2023/11/6568d253ca2ea.jpg
END:VEVENT
BEGIN:VEVENT
DTSTART;TZID=America/New_York:20240615T090000
DTEND;TZID=America/New_York:20240615T130000
DTSTAMP:20260421T194240
CREATED:20231201T205737Z
LAST-MODIFIED:20240912T123357Z
UID:6972-1718442000-1718456400@jobs.heritagechristianservices.org
SUMMARY:Rochester Saturday Hiring Event
DESCRIPTION:
URL:https://jobs.heritagechristianservices.org/event/saturday-hiring-event-3/
LOCATION:Heritage Christian Services Corporate Office\, 275 Kenneth Drive\, Suite 100\, Rochester\, NY\, 14623\, United States
ATTACH;FMTTYPE=image/jpeg:https://jobs.heritagechristianservices.org/wp-content/uploads/2023/11/6568d261dec2f.jpg
END:VEVENT
BEGIN:VEVENT
DTSTART;TZID=America/New_York:20240611T120000
DTEND;TZID=America/New_York:20240611T160000
DTSTAMP:20260421T194240
CREATED:20231201T193830Z
LAST-MODIFIED:20240911T191012Z
UID:6921-1718107200-1718121600@jobs.heritagechristianservices.org
SUMMARY:Rochester Walk-in Tuesdays
DESCRIPTION:
URL:https://jobs.heritagechristianservices.org/event/walk-in-tuesdays-62/
LOCATION:Heritage Christian Services Corporate Office\, 275 Kenneth Drive\, Suite 100\, Rochester\, NY\, 14623\, United States
ATTACH;FMTTYPE=image/jpeg:https://jobs.heritagechristianservices.org/wp-content/uploads/2023/11/6568d25645c85.jpg
END:VEVENT
BEGIN:VEVENT
DTSTART;TZID=America/New_York:20240604T120000
DTEND;TZID=America/New_York:20240604T160000
DTSTAMP:20260421T194240
CREATED:20231201T204921Z
LAST-MODIFIED:20240911T190808Z
UID:6962-1717502400-1717516800@jobs.heritagechristianservices.org
SUMMARY:Buffalo Walk-in Tuesdays
DESCRIPTION:
URL:https://jobs.heritagechristianservices.org/event/walk-in-tuesdays-82/
LOCATION:Heritage Christian Services Regional Office\, 130 John Muir Dr.\, Suite 106\, Amherst\, NY\, 14228\, United States
ATTACH;FMTTYPE=image/jpeg:https://jobs.heritagechristianservices.org/wp-content/uploads/2023/11/6568d25c02e75.jpg
END:VEVENT
BEGIN:VEVENT
DTSTART;TZID=America/New_York:20240604T120000
DTEND;TZID=America/New_York:20240604T160000
DTSTAMP:20260421T194240
CREATED:20231201T193700Z
LAST-MODIFIED:20240911T190513Z
UID:6919-1717502400-1717516800@jobs.heritagechristianservices.org
SUMMARY:Rochester Walk-in Tuesdays
DESCRIPTION:
URL:https://jobs.heritagechristianservices.org/event/walk-in-tuesdays-61/
LOCATION:Heritage Christian Services Corporate Office\, 275 Kenneth Drive\, Suite 100\, Rochester\, NY\, 14623\, United States
ATTACH;FMTTYPE=image/jpeg:https://jobs.heritagechristianservices.org/wp-content/uploads/2023/11/6568d2580e883.jpg
END:VEVENT
BEGIN:VEVENT
DTSTART;TZID=America/New_York:20240531T120000
DTEND;TZID=America/New_York:20240531T153000
DTSTAMP:20260421T194240
CREATED:20240513T144544Z
LAST-MODIFIED:20240911T191107Z
UID:7247-1717156800-1717169400@jobs.heritagechristianservices.org
SUMMARY:Hiring Event - Webster Public Library
DESCRIPTION:
URL:https://jobs.heritagechristianservices.org/event/hiring-event-webster-public-library-11/
LOCATION:Webster Public Library\, 980 Ridge Road\, Webster\, NY\, 14580\, United States
ATTACH;FMTTYPE=image/jpeg:https://jobs.heritagechristianservices.org/wp-content/uploads/2018/08/webster-public-library-e1553881996554.jpg
END:VEVENT
BEGIN:VEVENT
DTSTART;TZID=America/New_York:20240528T120000
DTEND;TZID=America/New_York:20240528T160000
DTSTAMP:20260421T194240
CREATED:20231201T193517Z
LAST-MODIFIED:20240911T185334Z
UID:6917-1716897600-1716912000@jobs.heritagechristianservices.org
SUMMARY:Rochester Walk-in Tuesdays
DESCRIPTION:
URL:https://jobs.heritagechristianservices.org/event/walk-in-tuesdays-60/
LOCATION:Heritage Christian Services Corporate Office\, 275 Kenneth Drive\, Suite 100\, Rochester\, NY\, 14623\, United States
ATTACH;FMTTYPE=image/jpeg:https://jobs.heritagechristianservices.org/wp-content/uploads/2023/11/6568d25a19c78.jpg
END:VEVENT
BEGIN:VEVENT
DTSTART;TZID=America/New_York:20240521T120000
DTEND;TZID=America/New_York:20240521T160000
DTSTAMP:20260421T194240
CREATED:20231201T193341Z
LAST-MODIFIED:20240911T195558Z
UID:6915-1716292800-1716307200@jobs.heritagechristianservices.org
SUMMARY:Rochester Walk-in Tuesdays
DESCRIPTION:
URL:https://jobs.heritagechristianservices.org/event/walk-in-tuesdays-59/
LOCATION:Heritage Christian Services Corporate Office\, 275 Kenneth Drive\, Suite 100\, Rochester\, NY\, 14623\, United States
ATTACH;FMTTYPE=image/jpeg:https://jobs.heritagechristianservices.org/wp-content/uploads/2023/11/6568d25645c85.jpg
END:VEVENT
BEGIN:VEVENT
DTSTART;TZID=America/New_York:20240514T120000
DTEND;TZID=America/New_York:20240514T160000
DTSTAMP:20260421T194240
CREATED:20231201T193155Z
LAST-MODIFIED:20240911T200156Z
UID:6913-1715688000-1715702400@jobs.heritagechristianservices.org
SUMMARY:Rochester Walk-in Tuesdays
DESCRIPTION:
URL:https://jobs.heritagechristianservices.org/event/walk-in-tuesdays-58/
LOCATION:Heritage Christian Services Corporate Office\, 275 Kenneth Drive\, Suite 100\, Rochester\, NY\, 14623\, United States
ATTACH;FMTTYPE=image/jpeg:https://jobs.heritagechristianservices.org/wp-content/uploads/2023/11/6568d253ca2ea.jpg
END:VEVENT
BEGIN:VEVENT
DTSTART;TZID=America/New_York:20240510T103000
DTEND;TZID=America/New_York:20240510T130000
DTSTAMP:20260421T194240
CREATED:20240422T203354Z
LAST-MODIFIED:20240912T130540Z
UID:7215-1715337000-1715346000@jobs.heritagechristianservices.org
SUMMARY:Hiring Direct Support Staff for Community Habilitation – At the Webster Public Library
DESCRIPTION:
URL:https://jobs.heritagechristianservices.org/event/hiring-event-webster-public-library-10/
LOCATION:Webster Public Library\, 980 Ridge Road\, Webster\, NY\, 14580\, United States
ATTACH;FMTTYPE=image/jpeg:https://jobs.heritagechristianservices.org/wp-content/uploads/2018/08/webster-public-library-e1553881996554.jpg
END:VEVENT
BEGIN:VEVENT
DTSTART;TZID=America/New_York:20240507T120000
DTEND;TZID=America/New_York:20240507T160000
DTSTAMP:20260421T194240
CREATED:20231201T204147Z
LAST-MODIFIED:20240911T200100Z
UID:6954-1715083200-1715097600@jobs.heritagechristianservices.org
SUMMARY:Buffalo Walk-in Tuesdays
DESCRIPTION:
URL:https://jobs.heritagechristianservices.org/event/walk-in-tuesdays-78/
LOCATION:Heritage Christian Services Regional Office\, 130 John Muir Dr.\, Suite 106\, Amherst\, NY\, 14228\, United States
ATTACH;FMTTYPE=image/jpeg:https://jobs.heritagechristianservices.org/wp-content/uploads/2023/11/6568d25c02e75.jpg
END:VEVENT
END:VCALENDAR