BEGIN:VCALENDAR
VERSION:2.0
PRODID:-//Heritage Christian Careers - ECPv6.15.20//NONSGML v1.0//EN
CALSCALE:GREGORIAN
METHOD:PUBLISH
X-WR-CALNAME:Heritage Christian Careers
X-ORIGINAL-URL:https://jobs.heritagechristianservices.org
X-WR-CALDESC:Events for Heritage Christian Careers
REFRESH-INTERVAL;VALUE=DURATION:PT1H
X-Robots-Tag:noindex
X-PUBLISHED-TTL:PT1H
BEGIN:VTIMEZONE
TZID:America/New_York
BEGIN:DAYLIGHT
TZOFFSETFROM:-0500
TZOFFSETTO:-0400
TZNAME:EDT
DTSTART:20220313T070000
END:DAYLIGHT
BEGIN:STANDARD
TZOFFSETFROM:-0400
TZOFFSETTO:-0500
TZNAME:EST
DTSTART:20221106T060000
END:STANDARD
BEGIN:DAYLIGHT
TZOFFSETFROM:-0500
TZOFFSETTO:-0400
TZNAME:EDT
DTSTART:20230312T070000
END:DAYLIGHT
BEGIN:STANDARD
TZOFFSETFROM:-0400
TZOFFSETTO:-0500
TZNAME:EST
DTSTART:20231105T060000
END:STANDARD
BEGIN:DAYLIGHT
TZOFFSETFROM:-0500
TZOFFSETTO:-0400
TZNAME:EDT
DTSTART:20240310T070000
END:DAYLIGHT
BEGIN:STANDARD
TZOFFSETFROM:-0400
TZOFFSETTO:-0500
TZNAME:EST
DTSTART:20241103T060000
END:STANDARD
END:VTIMEZONE
BEGIN:VEVENT
DTSTART;TZID=America/New_York:20231017T120000
DTEND;TZID=America/New_York:20231017T160000
DTSTAMP:20260422T105450
CREATED:20230801T132353Z
LAST-MODIFIED:20230920T155320Z
UID:5775-1697544000-1697558400@jobs.heritagechristianservices.org
SUMMARY:Walk-in Tuesdays
DESCRIPTION:
URL:https://jobs.heritagechristianservices.org/event/walk-in-tuesdays-29/
LOCATION:Heritage Christian Services Corporate Office\, 275 Kenneth Drive\, Suite 100\, Rochester\, NY\, 14623\, United States
ATTACH;FMTTYPE=image/png:https://jobs.heritagechristianservices.org/wp-content/uploads/2023/06/Walk-In-Tuesdays-for-events-1.png
END:VEVENT
BEGIN:VEVENT
DTSTART;TZID=America/New_York:20231012T113000
DTEND;TZID=America/New_York:20231012T140000
DTSTAMP:20260422T105450
CREATED:20231004T150035Z
LAST-MODIFIED:20231004T150035Z
UID:6842-1697110200-1697119200@jobs.heritagechristianservices.org
SUMMARY:Recruitment Table - MCC Brighton Campus
DESCRIPTION:
URL:https://jobs.heritagechristianservices.org/event/recruitment-table-mcc-brighton-campus/
LOCATION:Monroe Community College\, 1000 East Henrietta Road\, Rochester\, NY\, 14623\, United States
END:VEVENT
BEGIN:VEVENT
DTSTART;TZID=America/New_York:20231011T170000
DTEND;TZID=America/New_York:20231011T210000
DTSTAMP:20260422T105450
CREATED:20231004T141030Z
LAST-MODIFIED:20231004T141030Z
UID:6839-1697043600-1697058000@jobs.heritagechristianservices.org
SUMMARY:Recruitment Table - Nurses Night at M Hotel Ballroom
DESCRIPTION:
URL:https://jobs.heritagechristianservices.org/event/recruitment-table-nurses-night-at-m-hotel-ballroom/
LOCATION:M Hotel Ballroom\, 2040 Walden Ave.\, Cheektowaga\, NY\, 14225\, United States
END:VEVENT
BEGIN:VEVENT
DTSTART;TZID=America/New_York:20231010T120000
DTEND;TZID=America/New_York:20231010T160000
DTSTAMP:20260422T105450
CREATED:20230801T132204Z
LAST-MODIFIED:20230920T155218Z
UID:5773-1696939200-1696953600@jobs.heritagechristianservices.org
SUMMARY:Walk-in Tuesdays
DESCRIPTION:
URL:https://jobs.heritagechristianservices.org/event/walk-in-tuesdays-28/
LOCATION:Heritage Christian Services Corporate Office\, 275 Kenneth Drive\, Suite 100\, Rochester\, NY\, 14623\, United States
ATTACH;FMTTYPE=image/png:https://jobs.heritagechristianservices.org/wp-content/uploads/2023/01/Walk-in-Tuesdays-2-3.png
END:VEVENT
BEGIN:VEVENT
DTSTART;TZID=America/New_York:20231009T110000
DTEND;TZID=America/New_York:20231009T130000
DTSTAMP:20260422T105450
CREATED:20231004T140619Z
LAST-MODIFIED:20231004T140619Z
UID:6837-1696849200-1696856400@jobs.heritagechristianservices.org
SUMMARY:Recruitment Table - St. John Fisher Library
DESCRIPTION:
URL:https://jobs.heritagechristianservices.org/event/recruitment-table-st-john-fisher-library/
LOCATION:St. John Fisher College\, 3690 East Avenue\, Rochester\, NY\, 14618\, United States
ATTACH;FMTTYPE=image/jpeg:https://jobs.heritagechristianservices.org/wp-content/uploads/2018/11/StJohnFisherCollegeLogo.jpg
END:VEVENT
BEGIN:VEVENT
DTSTART;TZID=America/New_York:20231005T120000
DTEND;TZID=America/New_York:20231005T160000
DTSTAMP:20260422T105450
CREATED:20230321T134905Z
LAST-MODIFIED:20230920T155123Z
UID:5585-1696507200-1696521600@jobs.heritagechristianservices.org
SUMMARY:Walk-in Thursdays
DESCRIPTION:
URL:https://jobs.heritagechristianservices.org/event/walk-in-thursdays-6/
LOCATION:Heritage Christian Services Regional Office\, 130 John Muir Dr.\, Suite 106\, Amherst\, NY\, 14228\, United States
ATTACH;FMTTYPE=image/png:https://jobs.heritagechristianservices.org/wp-content/uploads/2023/06/Copy-of-Walk-In-Tuesdays-for-events-5.png
END:VEVENT
BEGIN:VEVENT
DTSTART;TZID=America/New_York:20231005T110000
DTEND;TZID=America/New_York:20231005T123000
DTSTAMP:20260422T105450
CREATED:20231004T140453Z
LAST-MODIFIED:20231004T140453Z
UID:6835-1696503600-1696509000@jobs.heritagechristianservices.org
SUMMARY:Recruitment Table - Villa Maria College Fair
DESCRIPTION:
URL:https://jobs.heritagechristianservices.org/event/recruitment-table-villa-maria-college-fair/
LOCATION:Villa Maria College – Dining Hall\, 240 Pine Ridge Road\, Buffalo\, NY\, 14225\, United States
END:VEVENT
BEGIN:VEVENT
DTSTART;TZID=America/New_York:20231003T120000
DTEND;TZID=America/New_York:20231003T160000
DTSTAMP:20260422T105450
CREATED:20230801T132102Z
LAST-MODIFIED:20230920T155051Z
UID:5771-1696334400-1696348800@jobs.heritagechristianservices.org
SUMMARY:Walk-in Tuesdays
DESCRIPTION:
URL:https://jobs.heritagechristianservices.org/event/walk-in-tuesdays-27/
LOCATION:Heritage Christian Services Corporate Office\, 275 Kenneth Drive\, Suite 100\, Rochester\, NY\, 14623\, United States
ATTACH;FMTTYPE=image/png:https://jobs.heritagechristianservices.org/wp-content/uploads/2023/01/Walk-in-Tuesdays-2-2.png
END:VEVENT
BEGIN:VEVENT
DTSTART;TZID=America/New_York:20230929T103000
DTEND;TZID=America/New_York:20230929T140000
DTSTAMP:20260422T105450
CREATED:20230911T155944Z
LAST-MODIFIED:20230920T134231Z
UID:6790-1695983400-1695996000@jobs.heritagechristianservices.org
SUMMARY:Hiring Event - Irondequoit Public Library
DESCRIPTION:
URL:https://jobs.heritagechristianservices.org/event/hiring-event-irondequoit-public-library-3/
LOCATION:Irondequoit Public Library\, 1290 Titus Ave\, Rochester\, NY\, 14617\, United States
ATTACH;FMTTYPE=image/jpeg:https://jobs.heritagechristianservices.org/wp-content/uploads/2022/04/Irondequoit.jpg
END:VEVENT
BEGIN:VEVENT
DTSTART;TZID=America/New_York:20230926T120000
DTEND;TZID=America/New_York:20230926T160000
DTSTAMP:20260422T105450
CREATED:20230801T131817Z
LAST-MODIFIED:20230920T155016Z
UID:5769-1695729600-1695744000@jobs.heritagechristianservices.org
SUMMARY:Walk-in Tuesdays
DESCRIPTION:
URL:https://jobs.heritagechristianservices.org/event/walk-in-tuesdays-26/
LOCATION:Heritage Christian Services Corporate Office\, 275 Kenneth Drive\, Suite 100\, Rochester\, NY\, 14623\, United States
ATTACH;FMTTYPE=image/png:https://jobs.heritagechristianservices.org/wp-content/uploads/2023/06/Walk-In-Tuesdays-for-events.png
END:VEVENT
BEGIN:VEVENT
DTSTART;TZID=America/New_York:20230923T120000
DTEND;TZID=America/New_York:20230923T170000
DTSTAMP:20260422T105450
CREATED:20230906T145754Z
LAST-MODIFIED:20230920T154856Z
UID:6785-1695470400-1695488400@jobs.heritagechristianservices.org
SUMMARY:CollegeFEST 2023 - Recruitment Table
DESCRIPTION:
URL:https://jobs.heritagechristianservices.org/event/collegefest-2023-recruitment-table/
LOCATION:Innovation Square\, 140 S Clinton Ave\, Rochester\, NY\, 14604\, United States
END:VEVENT
BEGIN:VEVENT
DTSTART;TZID=America/New_York:20230923T090000
DTEND;TZID=America/New_York:20230923T130000
DTSTAMP:20260422T105450
CREATED:20230510T155532Z
LAST-MODIFIED:20230920T154752Z
UID:5651-1695459600-1695474000@jobs.heritagechristianservices.org
SUMMARY:Saturday Hiring Event
DESCRIPTION:
URL:https://jobs.heritagechristianservices.org/event/saturday-hiring-event-rochester-2/
LOCATION:HCS Corporate Office\, 275 Kenneth Drive\, Suite 100\, Rochester\, NY\, 14623\, United States
ATTACH;FMTTYPE=image/png:https://jobs.heritagechristianservices.org/wp-content/uploads/2023/01/Walk-in-Sat-for-events-1.png
END:VEVENT
BEGIN:VEVENT
DTSTART;TZID=America/New_York:20230919T120000
DTEND;TZID=America/New_York:20230919T160000
DTSTAMP:20260422T105450
CREATED:20230801T131416Z
LAST-MODIFIED:20230801T131416Z
UID:5767-1695124800-1695139200@jobs.heritagechristianservices.org
SUMMARY:Walk-in Tuesdays
DESCRIPTION:
URL:https://jobs.heritagechristianservices.org/event/walk-in-tuesdays-25/
LOCATION:Heritage Christian Services Corporate Office\, 275 Kenneth Drive\, Suite 100\, Rochester\, NY\, 14623\, United States
ATTACH;FMTTYPE=image/png:https://jobs.heritagechristianservices.org/wp-content/uploads/2023/01/Walk-in-Tuesdays-2-3.png
END:VEVENT
BEGIN:VEVENT
DTSTART;TZID=America/New_York:20230912T120000
DTEND;TZID=America/New_York:20230912T160000
DTSTAMP:20260422T105450
CREATED:20230801T131246Z
LAST-MODIFIED:20230801T131246Z
UID:5765-1694520000-1694534400@jobs.heritagechristianservices.org
SUMMARY:Walk-in Tuesdays
DESCRIPTION:
URL:https://jobs.heritagechristianservices.org/event/walk-in-tuesdays-24/
LOCATION:Heritage Christian Services Corporate Office\, 275 Kenneth Drive\, Suite 100\, Rochester\, NY\, 14623\, United States
ATTACH;FMTTYPE=image/png:https://jobs.heritagechristianservices.org/wp-content/uploads/2023/01/Walk-in-Tuesdays-2-1.png
END:VEVENT
BEGIN:VEVENT
DTSTART;TZID=America/New_York:20230907T120000
DTEND;TZID=America/New_York:20230907T160000
DTSTAMP:20260422T105450
CREATED:20230321T134810Z
LAST-MODIFIED:20230613T130712Z
UID:5583-1694088000-1694102400@jobs.heritagechristianservices.org
SUMMARY:Walk-in Thursdays
DESCRIPTION:
URL:https://jobs.heritagechristianservices.org/event/walk-in-thursdays-5/
LOCATION:Heritage Christian Services Regional Office\, 130 John Muir Dr.\, Suite 106\, Amherst\, NY\, 14228\, United States
ATTACH;FMTTYPE=image/png:https://jobs.heritagechristianservices.org/wp-content/uploads/2023/06/Copy-of-Walk-In-Tuesdays-for-events-4.png
END:VEVENT
BEGIN:VEVENT
DTSTART;TZID=America/New_York:20230905T120000
DTEND;TZID=America/New_York:20230905T160000
DTSTAMP:20260422T105450
CREATED:20230801T131114Z
LAST-MODIFIED:20230801T131114Z
UID:5763-1693915200-1693929600@jobs.heritagechristianservices.org
SUMMARY:Walk-in Tuesdays
DESCRIPTION:
URL:https://jobs.heritagechristianservices.org/event/walk-in-tuesdays-23/
LOCATION:Heritage Christian Services Corporate Office\, 275 Kenneth Drive\, Suite 100\, Rochester\, NY\, 14623\, United States
ATTACH;FMTTYPE=image/png:https://jobs.heritagechristianservices.org/wp-content/uploads/2023/06/Walk-In-Tuesdays-for-events-1.png
END:VEVENT
BEGIN:VEVENT
DTSTART;TZID=America/New_York:20230831T100000
DTEND;TZID=America/New_York:20230831T120000
DTSTAMP:20260422T105450
CREATED:20230822T141141Z
LAST-MODIFIED:20230822T141141Z
UID:6774-1693476000-1693483200@jobs.heritagechristianservices.org
SUMMARY:Recruiting Table - RochesterWorks!
DESCRIPTION:
URL:https://jobs.heritagechristianservices.org/event/recruiting-table-rochesterworks/
LOCATION:RochesterWorks\, 100 College Ave\, Suite 200\, Rochester\, NY\, 14607\, United States
ATTACH;FMTTYPE=image/jpeg:https://jobs.heritagechristianservices.org/wp-content/uploads/2019/12/rochester-works-waring-road.jpg
END:VEVENT
BEGIN:VEVENT
DTSTART;TZID=America/New_York:20230830T120000
DTEND;TZID=America/New_York:20230830T150000
DTSTAMP:20260422T105450
CREATED:20230822T141417Z
LAST-MODIFIED:20230822T141447Z
UID:6776-1693396800-1693407600@jobs.heritagechristianservices.org
SUMMARY:Recruiting Table - Seymour Student Union\, SUNY Brockport
DESCRIPTION:
URL:https://jobs.heritagechristianservices.org/event/recruiting-table-seymour-student-union-suny-brockport/
LOCATION:SUNY Brockport\, 350 New Campus Drive\, Brockport\, NY\, 14420\, United States
ATTACH;FMTTYPE=image/jpeg:https://jobs.heritagechristianservices.org/wp-content/uploads/2019/01/College-at-Brockport.jpg
END:VEVENT
BEGIN:VEVENT
DTSTART;TZID=America/New_York:20230829T120000
DTEND;TZID=America/New_York:20230829T160000
DTSTAMP:20260422T105450
CREATED:20230613T124044Z
LAST-MODIFIED:20230613T124044Z
UID:5724-1693310400-1693324800@jobs.heritagechristianservices.org
SUMMARY:Walk-In Tuesdays
DESCRIPTION:
URL:https://jobs.heritagechristianservices.org/event/walk-in-tuesdays-22/
LOCATION:Heritage Christian Services Corporate Office\, 275 Kenneth Drive\, Suite 100\, Rochester\, NY\, 14623\, United States
ATTACH;FMTTYPE=image/png:https://jobs.heritagechristianservices.org/wp-content/uploads/2023/01/Walk-in-Tuesdays-2-2.png
END:VEVENT
BEGIN:VEVENT
DTSTART;TZID=America/New_York:20230824T110000
DTEND;TZID=America/New_York:20230824T150000
DTSTAMP:20260422T105450
CREATED:20230822T140949Z
LAST-MODIFIED:20230822T140949Z
UID:6771-1692874800-1692889200@jobs.heritagechristianservices.org
SUMMARY:Recruiting Table - Audubon Branch\, Amherst Public Library
DESCRIPTION:
URL:https://jobs.heritagechristianservices.org/event/recruiting-table-audubon-branch-amherst-public-library/
LOCATION:Audubon Branch Amherst Public Library\, 350 John James Audubon Pkwy\, Buffalo\, NY\, 14228\, United States
END:VEVENT
BEGIN:VEVENT
DTSTART;TZID=America/New_York:20230822T120000
DTEND;TZID=America/New_York:20230822T160000
DTSTAMP:20260422T105450
CREATED:20230613T123930Z
LAST-MODIFIED:20230613T123930Z
UID:5722-1692705600-1692720000@jobs.heritagechristianservices.org
SUMMARY:Walk-In Tuesdays
DESCRIPTION:
URL:https://jobs.heritagechristianservices.org/event/walk-in-tuesdays-21/
LOCATION:Heritage Christian Services Corporate Office\, 275 Kenneth Drive\, Suite 100\, Rochester\, NY\, 14623\, United States
ATTACH;FMTTYPE=image/png:https://jobs.heritagechristianservices.org/wp-content/uploads/2023/01/Walk-in-Tuesdays-2-3.png
END:VEVENT
BEGIN:VEVENT
DTSTART;TZID=America/New_York:20230818T100000
DTEND;TZID=America/New_York:20230818T140000
DTSTAMP:20260422T105450
CREATED:20230807T141929Z
LAST-MODIFIED:20230807T141929Z
UID:6690-1692352800-1692367200@jobs.heritagechristianservices.org
SUMMARY:Hiring Event - Webster Public Library
DESCRIPTION:
URL:https://jobs.heritagechristianservices.org/event/hiring-event-webster-public-library-5/
LOCATION:Webster Public Library\, 980 Ridge Road\, Webster\, NY\, 14580\, United States
ATTACH;FMTTYPE=image/jpeg:https://jobs.heritagechristianservices.org/wp-content/uploads/2018/08/webster-public-library-e1553881996554.jpg
END:VEVENT
BEGIN:VEVENT
DTSTART;TZID=America/New_York:20230815T120000
DTEND;TZID=America/New_York:20230815T160000
DTSTAMP:20260422T105450
CREATED:20230613T123842Z
LAST-MODIFIED:20230613T132840Z
UID:5720-1692100800-1692115200@jobs.heritagechristianservices.org
SUMMARY:Walk-In Tuesdays
DESCRIPTION:
URL:https://jobs.heritagechristianservices.org/event/walk-in-tuesdays-20/
LOCATION:Heritage Christian Services Corporate Office\, 275 Kenneth Drive\, Suite 100\, Rochester\, NY\, 14623\, United States
ATTACH;FMTTYPE=image/png:https://jobs.heritagechristianservices.org/wp-content/uploads/2023/06/Walk-In-Tuesdays-for-events-1.png
END:VEVENT
BEGIN:VEVENT
DTSTART;TZID=America/New_York:20230808T120000
DTEND;TZID=America/New_York:20230808T160000
DTSTAMP:20260422T105450
CREATED:20230613T123724Z
LAST-MODIFIED:20230613T132805Z
UID:5718-1691496000-1691510400@jobs.heritagechristianservices.org
SUMMARY:Walk-In Tuesdays
DESCRIPTION:
URL:https://jobs.heritagechristianservices.org/event/walk-in-tuesdays-19/
LOCATION:Heritage Christian Services Corporate Office\, 275 Kenneth Drive\, Suite 100\, Rochester\, NY\, 14623\, United States
ATTACH;FMTTYPE=image/png:https://jobs.heritagechristianservices.org/wp-content/uploads/2023/06/Walk-In-Tuesdays-for-events.png
END:VEVENT
BEGIN:VEVENT
DTSTART;TZID=America/New_York:20230803T120000
DTEND;TZID=America/New_York:20230803T160000
DTSTAMP:20260422T105450
CREATED:20230321T134713Z
LAST-MODIFIED:20230613T130627Z
UID:5581-1691064000-1691078400@jobs.heritagechristianservices.org
SUMMARY:Walk-in Thursdays
DESCRIPTION:
URL:https://jobs.heritagechristianservices.org/event/walk-in-thursdays-4/
LOCATION:Heritage Christian Services Regional Office\, 130 John Muir Dr.\, Suite 106\, Amherst\, NY\, 14228\, United States
ATTACH;FMTTYPE=image/png:https://jobs.heritagechristianservices.org/wp-content/uploads/2023/06/Copy-of-Walk-In-Tuesdays-for-events-2.png
END:VEVENT
BEGIN:VEVENT
DTSTART;TZID=America/New_York:20230801T120000
DTEND;TZID=America/New_York:20230801T160000
DTSTAMP:20260422T105450
CREATED:20230613T123628Z
LAST-MODIFIED:20230613T123628Z
UID:5716-1690891200-1690905600@jobs.heritagechristianservices.org
SUMMARY:Walk-In Tuesdays
DESCRIPTION:
URL:https://jobs.heritagechristianservices.org/event/walk-in-tuesdays-18/
LOCATION:Heritage Christian Services Corporate Office\, 275 Kenneth Drive\, Suite 100\, Rochester\, NY\, 14623\, United States
ATTACH;FMTTYPE=image/png:https://jobs.heritagechristianservices.org/wp-content/uploads/2023/01/Walk-in-Tuesdays-2-1.png
END:VEVENT
BEGIN:VEVENT
DTSTART;TZID=America/New_York:20230727T103000
DTEND;TZID=America/New_York:20230727T140000
DTSTAMP:20260422T105450
CREATED:20230724T145611Z
LAST-MODIFIED:20230724T145611Z
UID:5745-1690453800-1690466400@jobs.heritagechristianservices.org
SUMMARY:Hiring Event - Irondequoit Library
DESCRIPTION:
URL:https://jobs.heritagechristianservices.org/event/hiring-event-irondequoit-library-2/
LOCATION:Irondequoit Public Library\, 1290 Titus Ave\, Rochester\, NY\, 14617\, United States
ATTACH;FMTTYPE=image/jpeg:https://jobs.heritagechristianservices.org/wp-content/uploads/2022/04/Irondequoit.jpg
END:VEVENT
BEGIN:VEVENT
DTSTART;TZID=America/New_York:20230725T120000
DTEND;TZID=America/New_York:20230725T160000
DTSTAMP:20260422T105450
CREATED:20230613T123526Z
LAST-MODIFIED:20230613T123526Z
UID:5714-1690286400-1690300800@jobs.heritagechristianservices.org
SUMMARY:Walk-In Tuesdays
DESCRIPTION:
URL:https://jobs.heritagechristianservices.org/event/walk-in-tuesdays-17/
LOCATION:Heritage Christian Services Corporate Office\, 275 Kenneth Drive\, Suite 100\, Rochester\, NY\, 14623\, United States
ATTACH;FMTTYPE=image/png:https://jobs.heritagechristianservices.org/wp-content/uploads/2023/01/Walk-in-Tuesdays-2-2.png
END:VEVENT
BEGIN:VEVENT
DTSTART;TZID=America/New_York:20230718T120000
DTEND;TZID=America/New_York:20230718T160000
DTSTAMP:20260422T105450
CREATED:20230613T123439Z
LAST-MODIFIED:20230613T123439Z
UID:5712-1689681600-1689696000@jobs.heritagechristianservices.org
SUMMARY:Walk-In Tuesdays
DESCRIPTION:
URL:https://jobs.heritagechristianservices.org/event/walk-in-tuesdays-16/
LOCATION:Heritage Christian Services Corporate Office\, 275 Kenneth Drive\, Suite 100\, Rochester\, NY\, 14623\, United States
ATTACH;FMTTYPE=image/png:https://jobs.heritagechristianservices.org/wp-content/uploads/2023/01/Walk-in-Tuesdays-2-3.png
END:VEVENT
BEGIN:VEVENT
DTSTART;TZID=America/New_York:20230711T120000
DTEND;TZID=America/New_York:20230711T160000
DTSTAMP:20260422T105450
CREATED:20230613T123343Z
LAST-MODIFIED:20230613T124122Z
UID:5710-1689076800-1689091200@jobs.heritagechristianservices.org
SUMMARY:Walk-In Tuesdays
DESCRIPTION:
URL:https://jobs.heritagechristianservices.org/event/walk-in-tuesdays-15/
LOCATION:Heritage Christian Services Corporate Office\, 275 Kenneth Drive\, Suite 100\, Rochester\, NY\, 14623\, United States
END:VEVENT
END:VCALENDAR